BEGIN:VCALENDAR
VERSION:2.0
PRODID:-//https://www.faithvictoria.org.au///NONSGML kigkonsult.se iCalcreator 2.10.15//
METHOD:PUBLISH
BEGIN:VEVENT
UID:20210301T133338AEST-9892vFIJGf@https://www.faithvictoria.org.au/
DTSTAMP:20210301T033338Z
DESCRIPTION:Christmas Day&nbsp\;Friday 25 December 2021 https://www.faithvi
 ctoria.org.au/component/rseventspro/event/1100-christmas-day-public-holida
 y-victoria
DTSTART;VALUE=DATE:20211225
LOCATION:RSEvents!Pro Location (Colorado\, USA)
SUMMARY:Christmas Day (Public Holiday Victoria)
URL:https://www.faithvictoria.org.au/component/rseventspro/event/1100-chris
 tmas-day-public-holiday-victoria
END:VEVENT
BEGIN:VEVENT
UID:20210301T133338AEST-9895T4aRww@https://www.faithvictoria.org.au/
DTSTAMP:20210301T033338Z
DESCRIPTION:Boxing Day Public Holiday on Monday 27 December (As Boxing Day 
 falls on a Sunday\, this is an additional public holiday) https://www.fait
 hvictoria.org.au/component/rseventspro/event/1101-boxing-day-public-holida
 y-victoria
DTSTART;VALUE=DATE:20211227
LOCATION:RSEvents!Pro Location (Colorado\, USA)
SUMMARY:Boxing Day (Public Holiday Victoria)
URL:https://www.faithvictoria.org.au/component/rseventspro/event/1101-boxin
 g-day-public-holiday-victoria
END:VEVENT
BEGIN:VEVENT
UID:20210301T133338AEST-9897wMPbtG@https://www.faithvictoria.org.au/
DTSTAMP:20210301T033338Z
DESCRIPTION:Melbourne Cup Tuesday&nbsp\;2 November 2021 https://www.faithvi
 ctoria.org.au/component/rseventspro/event/1102-melbourne-cup-public-holida
 y-victoria
DTSTART;VALUE=DATE:20211102
LOCATION:RSEvents!Pro Location (Colorado\, USA)
SUMMARY:Melbourne Cup (Public Holiday Victoria)
URL:https://www.faithvictoria.org.au/component/rseventspro/event/1102-melbo
 urne-cup-public-holiday-victoria
END:VEVENT
BEGIN:VEVENT
UID:20210301T133338AEST-98986jcCVI@https://www.faithvictoria.org.au/
DTSTAMP:20210301T033338Z
DESCRIPTION:Friday before AFL Grand Final (subject to change as per AFL sch
 edule) https://www.faithvictoria.org.au/component/rseventspro/event/1103-f
 riday-before-afl-grand-final-public-holiday-victoria
DTSTART;VALUE=DATE:20210924
LOCATION:RSEvents!Pro Location (Colorado\, USA)
SUMMARY:Friday before AFL Grand Final (Public Holiday Victoria)
URL:https://www.faithvictoria.org.au/component/rseventspro/event/1103-frida
 y-before-afl-grand-final-public-holiday-victoria
END:VEVENT
BEGIN:VEVENT
UID:20210301T133338AEST-9899o0ifaL@https://www.faithvictoria.org.au/
DTSTAMP:20210301T033338Z
DESCRIPTION:Simchat TorahWednesday 29&nbsp\;September 2021Religion: Judaism
 \nSimchat Torah is a joyous festival in which the annual cycle of reading 
 the Torah is over\, and the cycle begins again for the year. The celebrati
 on typically includes singing\, dancing\, and marching with Torah scrolls.
  Begins after Sukkot ends. https://www.faithvictoria.org.au/component/rsev
 entspro/event/1283-simchat-torah-judaism
DTSTART;VALUE=DATE:20210929
LOCATION:RSEvents!Pro Location (Colorado\, USA)
SUMMARY:Simchat Torah (Judaism)
URL:https://www.faithvictoria.org.au/component/rseventspro/event/1283-simch
 at-torah-judaism
END:VEVENT
BEGIN:VEVENT
UID:20210301T133338AEST-9901SmIVVS@https://www.faithvictoria.org.au/
DTSTAMP:20210301T033338Z
DESCRIPTION:NavaratriBegins:&nbsp\;Thursday&nbsp\;7 October 2021Ends:&nbsp\
 ;Thursday 14 October&nbsp\;2021Religion: Hinduism\nNavaratri\, which liter
 ally means ‘nine nights’\, is a festival honouring the Goddess/Divine Moth
 er and her energy/power (Shakti). This nine day festival includes worshipp
 ing and dancing as people celebrate various aspects of the feminine. https
 ://www.faithvictoria.org.au/component/rseventspro/event/1284-navaratri-hin
 duism
DTSTART;VALUE=DATE:20211007
LOCATION:RSEvents!Pro Location (Colorado\, USA)
SUMMARY:Navaratri (Hinduism)
URL:https://www.faithvictoria.org.au/component/rseventspro/event/1284-navar
 atri-hinduism
END:VEVENT
BEGIN:VEVENT
UID:20210301T133338AEST-99037USs4d@https://www.faithvictoria.org.au/
DTSTAMP:20210301T033338Z
DESCRIPTION:Dussehra Friday&nbsp\;15 October&nbsp\;2021Religion: Hinduism\n
 Dussehra (Vijaya Dashami\, Dasara) is a Hindu festival that celebrates the
  victory of&nbsp\;good over evil. People celebrate Dussehra through specia
 l prayer meetings and food&nbsp\;offerings to the gods at home or in templ
 es. https://www.faithvictoria.org.au/component/rseventspro/event/1285-duss
 ehra-hinduism
DTSTART;VALUE=DATE:20211015
LOCATION:RSEvents!Pro Location (Colorado\, USA)
SUMMARY:Dussehra (Hinduism)
URL:https://www.faithvictoria.org.au/component/rseventspro/event/1285-dusse
 hra-hinduism
END:VEVENT
BEGIN:VEVENT
UID:20210301T133338AEST-99054KOpZj@https://www.faithvictoria.org.au/
DTSTAMP:20210301T033338Z
DESCRIPTION:Conferment of Guruship to Guru Granth SahibWednesday 20 October
  2021Religion: Sikhism\nThis day celebrates Guru Gobind Singh Ji's (10th G
 uru) passing on guruship to the holy&nbsp\;scriptures\, henceforth known a
 s the Guru Granth Sahib. The Guru Granth Sahib\,&nbsp\;comprising of 1430 
 pages of hymns\, presides the most prominent place and shines the&nbsp\;li
 ght of Truth to all Sikhs or devotees who seek it. https://www.faithvictor
 ia.org.au/component/rseventspro/event/1286-conferment-of-guruship-to-guru-
 granth-sahib-sikhism
DTSTART;VALUE=DATE:20211020
LOCATION:RSEvents!Pro Location (Colorado\, USA)
SUMMARY:Conferment of Guruship to Guru Granth Sahib (Sikhism)
URL:https://www.faithvictoria.org.au/component/rseventspro/event/1286-confe
 rment-of-guruship-to-guru-granth-sahib-sikhism
END:VEVENT
BEGIN:VEVENT
UID:20210301T133338AEST-9906lSvZ6j@https://www.faithvictoria.org.au/
DTSTAMP:20210301T033338Z
DESCRIPTION:DiwaliThursday&nbsp\;4 November&nbsp\;2021Religion: Hinduism\nD
 iwali\, also known as Festival of Lights\, is one of the most celebrated H
 indu festivals\, commemorating the victory of good over evil. Diwali means
  ‘row of lamps/lights’ and refers to the rows of lamps celebrants place ar
 ound their homes or on top of temples. https://www.faithvictoria.org.au/co
 mponent/rseventspro/event/1288-diwali-hinduism
DTSTART;VALUE=DATE:20211104
LOCATION:RSEvents!Pro Location (Colorado\, USA)
SUMMARY:Diwali (Hinduism)
URL:https://www.faithvictoria.org.au/component/rseventspro/event/1288-diwal
 i-hinduism
END:VEVENT
BEGIN:VEVENT
UID:20210301T133338AEST-9908BbUbDa@https://www.faithvictoria.org.au/
DTSTAMP:20210301T033338Z
DESCRIPTION:Birth of the BabFriday&nbsp\;6 November&nbsp\;2021Religion: Bah
 a'i\nThe anniversary of the birth in 1819 CE in Shiraz\, Persia (now Iran)
 \, of Siyyid ‘AliMuhammad\, who later took the title of ‘the Bab’\, meanin
 g ‘the Gate’. The Bab was the herald of the Baha’i faith. https://www.fait
 hvictoria.org.au/component/rseventspro/event/1289-birth-of-the-bab-baha-i
DTSTART;VALUE=DATE:20211106
LOCATION:RSEvents!Pro Location (Colorado\, USA)
SUMMARY:Birth of the Bab (Baha'i)
URL:https://www.faithvictoria.org.au/component/rseventspro/event/1289-birth
 -of-the-bab-baha-i
END:VEVENT
BEGIN:VEVENT
UID:20210301T133338AEST-9910UH36uV@https://www.faithvictoria.org.au/
DTSTAMP:20210301T033338Z
DESCRIPTION:Bandi Chhor Divas (Diwali) Thursday 4&nbsp\;November&nbsp\;2021
 Religion: Sikhism\nBandi Chhor Divas\, also known as ‘The Celebration of F
 reedom’\, commemorates the&nbsp\;release in 1619 CE from prison of the six
 th Sikh guru\, Sri Guru Hargobind Ji. Sikhs&nbsp\;continue this annual cel
 ebration with lamps being lit outside gurdwaras and sweetsdistributed to a
 ll. https://www.faithvictoria.org.au/component/rseventspro/event/1290-band
 i-chhor-divas-diwali-sikhism
DTSTART;VALUE=DATE:20211104
LOCATION:RSEvents!Pro Location (Colorado\, USA)
SUMMARY:Bandi Chhor Divas (Diwali) (Sikhism)
URL:https://www.faithvictoria.org.au/component/rseventspro/event/1290-bandi
 -chhor-divas-diwali-sikhism
END:VEVENT
BEGIN:VEVENT
UID:20210301T133338AEST-9911U6T3fM@https://www.faithvictoria.org.au/
DTSTAMP:20210301T033338Z
DESCRIPTION:Birth of Baha'ullahSunday 7 November&nbsp\;2021Religion: Baha'i
 \nThe anniversary of the birth of Baha’u’llah (born Mirza Husayn-‘Ali) in 
 1817 CE in Tehran\, Persia (now Iran). Baha’u’llah\, which means the ‘Glor
 y of God’\, is the founder of the Baha’i faith. https://www.faithvictoria.
 org.au/component/rseventspro/event/1291-birth-of-baha-ullah-baha-i
DTSTART;VALUE=DATE:20211107
LOCATION:RSEvents!Pro Location (Colorado\, USA)
SUMMARY:Birth of Baha'ullah (Baha'i)
URL:https://www.faithvictoria.org.au/component/rseventspro/event/1291-birth
 -of-baha-ullah-baha-i
END:VEVENT
BEGIN:VEVENT
UID:20210301T133338AEST-99130GChXT@https://www.faithvictoria.org.au/
DTSTAMP:20210301T033338Z
DESCRIPTION:ChristmasSaturday&nbsp\;25 December&nbsp\;2021Faith: Christiani
 ty\nChristmas is the celebration of the birth of Jesus Christ\, who is con
 sidered by Christians to be the Son of God\, and the savior of all people.
  https://www.faithvictoria.org.au/component/rseventspro/event/1462-christm
 as-christianity
DTSTART;VALUE=DATE:20211225
LOCATION:RSEvents!Pro Location (Colorado\, USA)
SUMMARY:Christmas | Christianity
URL:https://www.faithvictoria.org.au/component/rseventspro/event/1462-chris
 tmas-christianity
END:VEVENT
BEGIN:VEVENT
UID:20210301T133338AEST-9914dV3h9F@https://www.faithvictoria.org.au/
DTSTAMP:20210301T033338Z
DESCRIPTION:All Saints DayMonday&nbsp\;1 November 2021Faith: Christianity\n
 All Saints Day honours exemplary Christians who achieved sainthood\, espec
 ially those not having a special day. For many Christian denominations\, a
 ll Saints Day is a remembrance of departed Christian people of any time an
 d place. https://www.faithvictoria.org.au/component/rseventspro/event/1472
 -all-saints-day-christianity
DTSTART;VALUE=DATE:20211101
LOCATION:RSEvents!Pro Location (Colorado\, USA)
SUMMARY:All Saints Day | Christianity 	
URL:https://www.faithvictoria.org.au/component/rseventspro/event/1472-all-s
 aints-day-christianity
END:VEVENT
BEGIN:VEVENT
UID:20210301T133338AEST-9916vNKvLT@https://www.faithvictoria.org.au/
DTSTAMP:20210301T033338Z
DESCRIPTION:Birth of Guru Nanak Dev Sahib Ji\nFriday&nbsp\;19 November&nbsp
 \;2021Faith: Sikhism\nObserves the birth of Guru Sri Guru Nanak Dev Sahib\
 , the founder of the Sikh religion\, born in 1469 CE. An accomplished poet
 \, 974 of his hymns are part of the Guru Granth Sahib. https://www.faithvi
 ctoria.org.au/component/rseventspro/event/1473-birth-of-guru-nanak-dev-sah
 ib-ji-sikhism
DTSTART;VALUE=DATE:20211119
LOCATION:RSEvents!Pro Location (Colorado\, USA)
SUMMARY:Birth of Guru Nanak Dev Sahib Ji | Sikhism 	
URL:https://www.faithvictoria.org.au/component/rseventspro/event/1473-birth
 -of-guru-nanak-dev-sahib-ji-sikhism
END:VEVENT
BEGIN:VEVENT
UID:20210301T133338AEST-9917JjekH6@https://www.faithvictoria.org.au/
DTSTAMP:20210301T033338Z
DESCRIPTION:Martyrdom of Guru Tegh Bahadur JiWednesday&nbsp\;24 November&nb
 sp\;2021Faith: Sikhism\nGuru Tegh Bahadur (1621-1675) was the 9th Guru of 
 the Sikhs. He was publicly beheaded by the emperor of the day in 1675 for 
 his defense of the Sikh faith and for upholding the right to practice reli
 gious freedom. https://www.faithvictoria.org.au/component/rseventspro/even
 t/1474-martyrdom-of-guru-tegh-bahadur-ji-sikhism
DTSTART;VALUE=DATE:20211124
LOCATION:RSEvents!Pro Location (Colorado\, USA)
SUMMARY:Martyrdom of Guru Tegh Bahadur Ji | Sikhism 	
URL:https://www.faithvictoria.org.au/component/rseventspro/event/1474-marty
 rdom-of-guru-tegh-bahadur-ji-sikhism
END:VEVENT
BEGIN:VEVENT
UID:20210301T133338AEST-991976WfNU@https://www.faithvictoria.org.au/
DTSTAMP:20210301T033338Z
DESCRIPTION:AdventBegins on Sunday&nbsp\;28 December&nbsp\;2021Ends on&nbsp
 \;Friday 24 Decemer&nbsp\;2021&nbsp\;Faith: Christianity\nAdvent is the pe
 riod leading up to Christmas. It begins on the fourth Sunday before Christ
 mas (Advent Sunday) and continues through to December 24th (Christmas Eve)
 . In Western churches\, Advent Sunday marks the beginning of Christian lit
 urgical year. https://www.faithvictoria.org.au/component/rseventspro/event
 /1475-advent-christianity
DTSTART;VALUE=DATE:20211128
LOCATION:RSEvents!Pro Location (Colorado\, USA)
SUMMARY:Advent | Christianity 	
URL:https://www.faithvictoria.org.au/component/rseventspro/event/1475-adven
 t-christianity
END:VEVENT
BEGIN:VEVENT
UID:20210301T133338AEST-9921janAAx@https://www.faithvictoria.org.au/
DTSTAMP:20210301T033338Z
DESCRIPTION:Bodhi Day&nbsp\;Wednesday&nbsp\;8 December&nbsp\;2021Faith: Bud
 dhism\nBodhi Day is a Buddhist holiday commemorating the day the historica
 l Buddha\, Siddhartha Gautama reached enlightenment around 596 BCE. Prince
  Gautama took his place under the Bodhi tree vowing to remain there until 
 he attained supreme enlightenment. https://www.faithvictoria.org.au/compon
 ent/rseventspro/event/1476-bodhi-day-buddhism
DTSTART;VALUE=DATE:20211208
LOCATION:RSEvents!Pro Location (Colorado\, USA)
SUMMARY:Bodhi Day | Buddhism 	
URL:https://www.faithvictoria.org.au/component/rseventspro/event/1476-bodhi
 -day-buddhism
END:VEVENT
BEGIN:VEVENT
UID:20210301T133338AEST-9922SsLz2h@https://www.faithvictoria.org.au/
DTSTAMP:20210301T033338Z
DESCRIPTION:Hanukkah Begins on Monday&nbsp\;29&nbsp\;November&nbsp\;2021End
 s on Monday&nbsp\;6 December&nbsp\;2021Faith: Judaism\nHanukkah (Chanukah)
 \, also known as the Feast of Lights\, is an eight day festival commemorat
 ing the recapture and rededication of the Temple in Jerusalem over occupyi
 ng forces in 165 BCE. https://www.faithvictoria.org.au/component/rseventsp
 ro/event/1477-hanukkah-judaism
DTSTART;VALUE=DATE:20211129
LOCATION:RSEvents!Pro Location (Colorado\, USA)
SUMMARY:Hanukkah | Judaism 	
URL:https://www.faithvictoria.org.au/component/rseventspro/event/1477-hanuk
 kah-judaism
END:VEVENT
BEGIN:VEVENT
UID:20210301T133338AEST-9924Oe2Ts1@https://www.faithvictoria.org.au/
DTSTAMP:20210301T033338Z
DESCRIPTION:UN International Human Rights Day 2021\nFor more information:&n
 bsp\;http://www.un.org/en/events/humanrightsday/ https://www.faithvictoria
 .org.au/component/rseventspro/event/1652-international-human-rights-day
DTSTART;VALUE=DATE:20211210
LOCATION:RSEvents!Pro Location (Colorado\, USA)
SUMMARY:International Human Rights Day
URL:https://www.faithvictoria.org.au/component/rseventspro/event/1652-inter
 national-human-rights-day
END:VEVENT
END:VCALENDAR
