BEGIN:VCALENDAR
VERSION:2.0
PRODID:-//https://www.faithvictoria.org.au///NONSGML kigkonsult.se iCalcreator 2.10.15//
METHOD:PUBLISH
BEGIN:VEVENT
UID:20260421T213933UTC-4894U9MOxS@https://www.faithvictoria.org.au/
DTSTAMP:20260421T213933Z
DESCRIPTION:The City of Darebin and Darebin Interfaith Council invite you t
 o:\nDarebin World Interfaith Harmony Week Celebration 2017\nDate: Thursday
  9 February 2017&nbsp\;&nbsp\;&nbsp\;&nbsp\;&nbsp\;&nbsp\; Time: 10:30am t
 o 1pmLocation: Darebin Intercultural Centre - 59A Roseberry Avenue Preston
 \nGuest Speaker: Reverend Ian Smith\, Executive Officer of Victorian Counc
 il of ChurchesTopic: Faith &amp\; Social Inclusion\nAbout the Speaker: Rev
 erend Ian Smith\, Executive Officer of the Victorian Council of Churches\,
  will offer a keynote presentation on the theme ‘Faith and Inclusion’ and 
 discuss some of the outcomes from the 2016 Victorian Interfaith Networks C
 onference held last November at the Darebin Arts and Entertainment Centre.
 \nThe City of Darebin's Mayor Councillor Kim Le Cerf will also deliver a s
 peech.\nFollowing the presentations\, there will be music\, lunch and an o
 pportunity to mingle with the interfaith community.\nRSVP: Considering the
 re is a limited number of participants we can accommodate at the Intercult
 ural Centre and for catering purposes we strongly recommend you book as so
 on as possible by calling on (03) 8470 8440 or by emailing at intercultura
 l@darebin.vic.gov.au\nThis event is supported by a community partnership a
 nd the collaboration of the Darebin Interfaith Council\, The Darebin Inter
 cultural Centre\, the Darebin Ethnic Communities Council\, and various Dar
 ebin Council Departments.\nTo view flyer click here. https://www.faithvict
 oria.org.au/component/rseventspro/event/1087-world-interfaith-harmony-week
 -celebration-2017-darebin-interfaith-council?Itemid=174
DTSTART:20170209T103000Z
DTEND:20170209T130000Z
LOCATION:Darebin Intercultural Centre\, 59A Roseberry Ave\, Preston\, Victo
 ria (59A Roseberry Avenue\, Preston VIC 3072\, Australia)
SUMMARY:World Interfaith Harmony Week Celebration 2017: Darebin Interfaith 
 Council
URL:https://www.faithvictoria.org.au/component/rseventspro/event/1087-world
 -interfaith-harmony-week-celebration-2017-darebin-interfaith-council?Itemi
 d=174
END:VEVENT
END:VCALENDAR
