BEGIN:VCALENDAR
VERSION:2.0
PRODID:-//https://www.faithvictoria.org.au///NONSGML kigkonsult.se iCalcreator 2.10.15//
METHOD:PUBLISH
BEGIN:VEVENT
UID:20260421T213909UTC-3310hISFTR@https://www.faithvictoria.org.au/
DTSTAMP:20260421T213909Z
DESCRIPTION:The City of Wyndham and Wyndham Interfaith Network invite you t
 o:\n2017 World Interfaith Harmony Week Celebration - Morning Tea\nDate: Tu
 esday 7 February 2017&nbsp\;&nbsp\;&nbsp\;&nbsp\;&nbsp\;&nbsp\; Time: 10:3
 0am to11:30amLocation: The Point Cook Community Learning Centre\, 1-21 Che
 etham Street Point Cookhttps://www.wyndham.vic.gov.au/venues/point-cook-co
 mmunity-centre\nJourney of Hope with Sister Bridgid Arthur\nWyndham Interf
 aith Network will highlight the importance of belief for those who are dis
 placed. It will host a 25 piece art display by asylum seekers on loan from
  Baptcare. All of the works in the Journeys of Hope exhibition use colour 
 to express emotion\, feeling and memories that have their roots in the cha
 llenge of displacement and trauma. The Wyndham municipality currently host
 s more than 200 asylum seekers as they connect with others and move on wit
 h their lives. The art installation will be on display until the 14th of F
 eb\nSpeaker: Sister Bridgid Arthur from the Brigidine Asylum Seekers Proje
 ct. The project works with\, and for\, people seeking asylum both in deten
 tion and in the community. Underpinning this work are the core principles 
 of universal human rights and Australia’s responsibilities to those seekin
 g asylum\, especially the need for just and accessible procedures and stru
 ctures. She supports those in detention at Christmas Island and has visite
 d the detention facility a number of times.\nRegistration: Registration is
  required for catering purposes. Please email at: laurenceg@wyndhamcec.org
 .au\nTo view flyer\, click here\n&nbsp\; https://www.faithvictoria.org.au/
 component/rseventspro/event/1089-world-interfaith-harmony-week-celebration
 -2017-wyndham-interfaith-network?Itemid=174
DTSTART:20170207T103000Z
DTEND:20170207T113000Z
LOCATION:1-21 Cheetham Street Point Cook (1-21 Cheetham St\, Point Cook VIC
  3030\, Australia)
SUMMARY:World Interfaith Harmony Week Celebration 2017: Wyndham Interfaith 
 Network
URL:https://www.faithvictoria.org.au/component/rseventspro/event/1089-world
 -interfaith-harmony-week-celebration-2017-wyndham-interfaith-network?Itemi
 d=174
END:VEVENT
END:VCALENDAR
