BEGIN:VCALENDAR
VERSION:2.0
PRODID:-//https://www.faithvictoria.org.au///NONSGML kigkonsult.se iCalcreator 2.10.15//
METHOD:PUBLISH
BEGIN:VEVENT
UID:20260424T170930UTC-44145Ma9fv@https://www.faithvictoria.org.au/
DTSTAMP:20260424T170930Z
DESCRIPTION:Kirshna JanmashtamiMonday 30&nbsp\;August&nbsp\;2021Religion: H
 induism\nKrishna Janmashtami (or Jayanti) is the annual commemoration of t
 he birth of the&nbsp\;Hindu deity Krishna\, the eighth avatar of the God V
 ishnu. Worship of Krishna is&nbsp\;characteristically expressed in dance a
 nd song. https://www.faithvictoria.org.au/component/rseventspro/event/1277
 -krishna-janmashtami-hinduism?Itemid=174
DTSTART;VALUE=DATE:20210830
LOCATION:RSEvents!Pro Location (Colorado\, USA)
SUMMARY:Krishna Janmashtami (Hinduism)
URL:https://www.faithvictoria.org.au/component/rseventspro/event/1277-krish
 na-janmashtami-hinduism?Itemid=174
END:VEVENT
END:VCALENDAR
