BEGIN:VCALENDAR
VERSION:2.0
PRODID:-//https://www.faithvictoria.org.au///NONSGML kigkonsult.se iCalcreator 2.10.15//
METHOD:PUBLISH
BEGIN:VEVENT
UID:20260424T141031UTC-848820jOwG@https://www.faithvictoria.org.au/
DTSTAMP:20260424T141031Z
DESCRIPTION:Ganesh ChaturthiFriday&nbsp\;10 September 2021Religion: Hinduis
 m\nGanesh Chaturthi is a Hindu festival celebrating the birthday of Lord G
 anesh\, one of themajor Hindu deities. Ganesh has the head of an elephant 
 and is known as the removerof obstacles. https://www.faithvictoria.org.au/
 component/rseventspro/event/1280-ganesh-chaturthi-hinduism?Itemid=174
DTSTART;VALUE=DATE:20210910
LOCATION:RSEvents!Pro Location (Colorado\, USA)
SUMMARY:Ganesh Chaturthi (Hinduism)
URL:https://www.faithvictoria.org.au/component/rseventspro/event/1280-ganes
 h-chaturthi-hinduism?Itemid=174
END:VEVENT
END:VCALENDAR
