BEGIN:VCALENDAR
VERSION:2.0
PRODID:-//https://www.faithvictoria.org.au///NONSGML kigkonsult.se iCalcreator 2.10.15//
METHOD:PUBLISH
BEGIN:VEVENT
UID:20260424T141255UTC-7067i448Is@https://www.faithvictoria.org.au/
DTSTAMP:20260424T141255Z
DESCRIPTION:Conferment of Guruship to Guru Granth SahibWednesday 20 October
  2021Religion: Sikhism\nThis day celebrates Guru Gobind Singh Ji's (10th G
 uru) passing on guruship to the holy&nbsp\;scriptures\, henceforth known a
 s the Guru Granth Sahib. The Guru Granth Sahib\,&nbsp\;comprising of 1430 
 pages of hymns\, presides the most prominent place and shines the&nbsp\;li
 ght of Truth to all Sikhs or devotees who seek it. https://www.faithvictor
 ia.org.au/component/rseventspro/event/1286-conferment-of-guruship-to-guru-
 granth-sahib-sikhism?Itemid=174
DTSTART;VALUE=DATE:20211020
LOCATION:RSEvents!Pro Location (Colorado\, USA)
SUMMARY:Conferment of Guruship to Guru Granth Sahib (Sikhism)
URL:https://www.faithvictoria.org.au/component/rseventspro/event/1286-confe
 rment-of-guruship-to-guru-granth-sahib-sikhism?Itemid=174
END:VEVENT
END:VCALENDAR
