BEGIN:VCALENDAR
VERSION:2.0
PRODID:-//https://www.faithvictoria.org.au///NONSGML kigkonsult.se iCalcreator 2.10.15//
METHOD:PUBLISH
BEGIN:VEVENT
UID:20260424T142858UTC-2886fIvGD5@https://www.faithvictoria.org.au/
DTSTAMP:20260424T142858Z
DESCRIPTION:Bandi Chhor Divas (Diwali) Thursday 4&nbsp\;November&nbsp\;2021
 Religion: Sikhism\nBandi Chhor Divas\, also known as ‘The Celebration of F
 reedom’\, commemorates the&nbsp\;release in 1619 CE from prison of the six
 th Sikh guru\, Sri Guru Hargobind Ji. Sikhs&nbsp\;continue this annual cel
 ebration with lamps being lit outside gurdwaras and sweetsdistributed to a
 ll. https://www.faithvictoria.org.au/component/rseventspro/event/1290-band
 i-chhor-divas-diwali-sikhism?Itemid=174
DTSTART;VALUE=DATE:20211104
LOCATION:RSEvents!Pro Location (Colorado\, USA)
SUMMARY:Bandi Chhor Divas (Diwali) (Sikhism)
URL:https://www.faithvictoria.org.au/component/rseventspro/event/1290-bandi
 -chhor-divas-diwali-sikhism?Itemid=174
END:VEVENT
END:VCALENDAR
