BEGIN:VCALENDAR
VERSION:2.0
PRODID:-//https://www.faithvictoria.org.au///NONSGML kigkonsult.se iCalcreator 2.10.15//
METHOD:PUBLISH
BEGIN:VEVENT
UID:20260424T142922UTC-2469sLhIgU@https://www.faithvictoria.org.au/
DTSTAMP:20260424T142922Z
DESCRIPTION:Birth of Baha'ullahSunday 7 November&nbsp\;2021Religion: Baha'i
 \nThe anniversary of the birth of Baha’u’llah (born Mirza Husayn-‘Ali) in 
 1817 CE in Tehran\, Persia (now Iran). Baha’u’llah\, which means the ‘Glor
 y of God’\, is the founder of the Baha’i faith. https://www.faithvictoria.
 org.au/component/rseventspro/event/1291-birth-of-bahaullah-bahai?Itemid=17
 4
DTSTART;VALUE=DATE:20211107
LOCATION:RSEvents!Pro Location (Colorado\, USA)
SUMMARY:Birth of Baha'ullah (Baha'i)
URL:https://www.faithvictoria.org.au/component/rseventspro/event/1291-birth
 -of-bahaullah-bahai?Itemid=174
END:VEVENT
END:VCALENDAR
