BEGIN:VCALENDAR
VERSION:2.0
PRODID:-//https://www.faithvictoria.org.au///NONSGML kigkonsult.se iCalcreator 2.10.15//
METHOD:PUBLISH
BEGIN:VEVENT
UID:20260424T022921UTC-85445vcbSu@https://www.faithvictoria.org.au/
DTSTAMP:20260424T022921Z
DESCRIPTION:Martyrdom of Guru Tegh Bahadur Ji Thursday&nbsp\;24 November 20
 22Religion: Sikhism\nGuru Tegh Bahadur (1621-1675) was the 9th Guru of the
  Sikhs. He was publicly beheaded by the emperor of the day in 1675 for his
  defense of the Sikh faith and for upholding the right to practice religio
 us freedom. https://www.faithvictoria.org.au/component/rseventspro/event/1
 293-martyrdom-of-guru-tegh-bahadur-ji-sikhism?Itemid=174
DTSTART;VALUE=DATE:20221124
LOCATION:RSEvents!Pro Location (Colorado\, USA)
SUMMARY:Martyrdom of Guru Tegh Bahadur Ji (Sikhism)
URL:https://www.faithvictoria.org.au/component/rseventspro/event/1293-marty
 rdom-of-guru-tegh-bahadur-ji-sikhism?Itemid=174
END:VEVENT
END:VCALENDAR
