BEGIN:VCALENDAR
VERSION:2.0
PRODID:-//https://www.faithvictoria.org.au///NONSGML kigkonsult.se iCalcreator 2.10.15//
METHOD:PUBLISH
BEGIN:VEVENT
UID:20260424T141138UTC-7357sPR0fR@https://www.faithvictoria.org.au/
DTSTAMP:20260424T141138Z
DESCRIPTION:United Nations International Day of Peace 2021\nFor more inform
 ation:&nbsp\;http://www.un.org/en/events/peaceday/ https://www.faithvictor
 ia.org.au/component/rseventspro/event/1319-united-nations-international-da
 y-of-peace?Itemid=174
DTSTART;VALUE=DATE:20210921
LOCATION:RSEvents!Pro Location (Colorado\, USA)
SUMMARY:United Nations International Day of Peace
URL:https://www.faithvictoria.org.au/component/rseventspro/event/1319-unite
 d-nations-international-day-of-peace?Itemid=174
END:VEVENT
END:VCALENDAR
