BEGIN:VCALENDAR
VERSION:2.0
PRODID:-//https://www.faithvictoria.org.au///NONSGML kigkonsult.se iCalcreator 2.10.15//
METHOD:PUBLISH
BEGIN:VEVENT
UID:20260425T134942UTC-4917tO1twb@https://www.faithvictoria.org.au/
DTSTAMP:20260425T134942Z
DESCRIPTION:Holy Day: Mahavira Nirvana (Diwali)Date: Monday 24 October 2022
 Faith: Jainism\nDescription: This is India’s annual festival of lights\, c
 elebrated throughout the nation. In Jainism it has special significance\, 
 as on this day Lord Mahavira gave his last teachings and attained ultimate
  liberation (nirvana). https://www.faithvictoria.org.au/component/rsevents
 pro/event/1836-mahavir-nirvana-jainism?Itemid=174
DTSTART;VALUE=DATE:20221024
LOCATION:RSEvents!Pro Location (Colorado\, USA)
SUMMARY:Mahavir Nirvana | Jainism
URL:https://www.faithvictoria.org.au/component/rseventspro/event/1836-mahav
 ir-nirvana-jainism?Itemid=174
END:VEVENT
END:VCALENDAR
