BEGIN:VCALENDAR
VERSION:2.0
PRODID:-//https://www.faithvictoria.org.au///NONSGML kigkonsult.se iCalcreator 2.10.15//
METHOD:PUBLISH
BEGIN:VEVENT
UID:20260421T090536UTC-8727HT3z1r@https://www.faithvictoria.org.au/
DTSTAMP:20260421T090536Z
DESCRIPTION:AdventBegins: Sunday 30 November 2025Ends: Wednesday 24 Decembe
 r 2025Religion: Christianity\nAdvent is the period leading up to Christmas
 . It begins on the fourth Sunday before Christmas (Advent Sunday) and cont
 inues through to December 24th (Christmas Eve). In Western churches\, Adve
 nt Sunday marks the beginning of the Christian liturgical year. https://ww
 w.faithvictoria.org.au/component/rseventspro/event/2254-advent-christianit
 y?Itemid=174
DTSTART:20251130T165422Z
DTEND:20251224T165423Z
LOCATION:RSEvents!Pro Location (Colorado\, USA)
SUMMARY:Advent (Christianity)
URL:https://www.faithvictoria.org.au/component/rseventspro/event/2254-adven
 t-christianity?Itemid=174
END:VEVENT
END:VCALENDAR
