BEGIN:VCALENDAR
VERSION:2.0
PRODID:-//https://www.faithvictoria.org.au///NONSGML kigkonsult.se iCalcreator 2.10.15//
METHOD:PUBLISH
BEGIN:VEVENT
UID:20260423T103610UTC-5419acP1BE@https://www.faithvictoria.org.au/
DTSTAMP:20260423T103610Z
DESCRIPTION:SamvatsariTuesday 15 September 2026Faith: Jainism\nSamvatsari i
 s a day where Jains from the Swetamber sect offer and seek forgiveness for
  any wrong actions committed knowingly or unknowingly. Also known as the ‘
 Festival of Forgiveness’. https://www.faithvictoria.org.au/component/rseve
 ntspro/event/2393-samvatsari-jainism?Itemid=174
DTSTART;VALUE=DATE:20260915
LOCATION:RSEvents!Pro Location (Colorado\, USA)
SUMMARY:Samvatsari | Jainism
URL:https://www.faithvictoria.org.au/component/rseventspro/event/2393-samva
 tsari-jainism?Itemid=174
END:VEVENT
END:VCALENDAR
