BEGIN:VCALENDAR
VERSION:2.0
PRODID:-//https://www.faithvictoria.org.au///NONSGML kigkonsult.se iCalcreator 2.10.15//
METHOD:PUBLISH
BEGIN:VEVENT
UID:20260425T001737UTC-02134WNUS8@https://www.faithvictoria.org.au/
DTSTAMP:20260425T001737Z
DESCRIPTION:New Year's day Friday 1 January 2021 https://www.faithvictoria.
 org.au/upcoming-events/event/1105-new-years-day-public-holiday-victoria
DTSTART;VALUE=DATE:20210101
LOCATION:RSEvents!Pro Location (Colorado\, USA)
SUMMARY:New Year's Day (Public Holiday Victoria)
URL:https://www.faithvictoria.org.au/upcoming-events/event/1105-new-years-d
 ay-public-holiday-victoria
END:VEVENT
END:VCALENDAR
