BEGIN:VCALENDAR
VERSION:2.0
PRODID:-//https://www.faithvictoria.org.au///NONSGML kigkonsult.se iCalcreator 2.10.15//
METHOD:PUBLISH
BEGIN:VEVENT
UID:20260423T150353UTC-1031vuFfuZ@https://www.faithvictoria.org.au/
DTSTAMP:20260423T150353Z
DESCRIPTION:Birthday of Guru Gobind Singh (10th Guru) Thursday 5 January 20
 23Faith: Sikhism\nGuru Gobind Singh (1666-1708)\, the 10th and final Sikh 
 master\, created the Khalsa (the Community of the Pure) and declared the S
 criptures (Guru Granth Sahib) to be the Sikh's Guru from that time on. htt
 ps://www.faithvictoria.org.au/upcoming-events/event/1929-birthday-of-guru-
 gobind-singh-ji-sikhism
DTSTART;VALUE=DATE:20230105
LOCATION:RSEvents!Pro Location (Colorado\, USA)
SUMMARY:Birthday of Guru Gobind Singh Ji | Sikhism
URL:https://www.faithvictoria.org.au/upcoming-events/event/1929-birthday-of
 -guru-gobind-singh-ji-sikhism
END:VEVENT
END:VCALENDAR
