BEGIN:VCALENDAR
VERSION:2.0
PRODID:-//https://www.faithvictoria.org.au///NONSGML kigkonsult.se iCalcreator 2.10.15//
METHOD:PUBLISH
BEGIN:VEVENT
UID:20260425T040759UTC-32185FI5WB@https://www.faithvictoria.org.au/
DTSTAMP:20260425T040759Z
DESCRIPTION:Epiphany Thursday 6 January 202Faith: Christianity\nSignifying 
 the end of the 12 days of Christmas\, Epiphany celebrates the visit of Thr
 ee Kings to the infant Jesus as the occasion of the manifestation of Chris
 t to the gentiles. https://www.faithvictoria.org.au/upcoming-events/event/
 1416-epiphany-christianity
DTSTART;VALUE=DATE:20220106
LOCATION:RSEvents!Pro Location (Colorado\, USA)
SUMMARY:Epiphany	| Christianity
URL:https://www.faithvictoria.org.au/upcoming-events/event/1416-epiphany-ch
 ristianity
END:VEVENT
END:VCALENDAR
