BEGIN:VCALENDAR
VERSION:2.0
PRODID:-//https://www.faithvictoria.org.au///NONSGML kigkonsult.se iCalcreator 2.10.15//
METHOD:PUBLISH
BEGIN:VEVENT
UID:20260423T182210UTC-5480B9Fn4Z@https://www.faithvictoria.org.au/
DTSTAMP:20260423T182210Z
DESCRIPTION:NativitySaturday 7 January 2023Faith: Orthodox Christianity  \n
 Nativity is the Orthodox celebration of the birth of Jesus Christ\, who is
  considered by Christians to be the Son of God\, and the savior of all peo
 ple. https://www.faithvictoria.org.au/upcoming-events/event/1931-nativity-
 orthodox-christianity
DTSTART;VALUE=DATE:20230107
LOCATION:RSEvents!Pro Location (Colorado\, USA)
SUMMARY:Nativity | Orthodox Christianity 
URL:https://www.faithvictoria.org.au/upcoming-events/event/1931-nativity-or
 thodox-christianity
END:VEVENT
BEGIN:VEVENT
UID:20260423T182210UTC-5486CJe2VU@https://www.faithvictoria.org.au/
DTSTAMP:20260423T182210Z
DESCRIPTION:Mahayana New YearBegins on:&nbsp\;Saturday 7 January 2023Ends o
 n:&nbsp\;Monday 9 January 2023Buddhism  \nThe Buddhist New Year depends on
  the country of origin or ethnic background of the people. In Mahayana cou
 ntries the new year starts on first full moon day in January. A time to re
 flect on the past &amp\; cleanse oneself from prior year's sins\, making a
  fresh start. https://www.faithvictoria.org.au/upcoming-events/event/1932-
 mahayana-new-year-buddhism
DTSTART:20230107T000000Z
DTEND:20230109T170702Z
LOCATION:RSEvents!Pro Location (Colorado\, USA)
SUMMARY:Mahayana New Year | Buddhism 	
URL:https://www.faithvictoria.org.au/upcoming-events/event/1932-mahayana-ne
 w-year-buddhism
END:VEVENT
END:VCALENDAR
