BEGIN:VCALENDAR
VERSION:2.0
PRODID:-//https://www.faithvictoria.org.au///NONSGML kigkonsult.se iCalcreator 2.10.15//
METHOD:PUBLISH
BEGIN:VEVENT
UID:20260424T042516UTC-0406mZkgEm@https://www.faithvictoria.org.au/
DTSTAMP:20260424T042516Z
DESCRIPTION:MaghiFriday 13 January 2023Faith: Sikhism\nMaghi commemorate th
 e sacrifice of the Chali Mukte (the Forty Liberated Ones)\, who sacrificed
  their own lives defending an attack by the imperial army in pursuit of Gu
 ru Gobind Singh. This took place in Khidrane di Dhab\, on 29 December 1705
 . https://www.faithvictoria.org.au/upcoming-events/event/1933-maghi-sikhis
 m
DTSTART;VALUE=DATE:20230113
LOCATION:RSEvents!Pro Location (Colorado\, USA)
SUMMARY:Maghi | Sikhism 	
URL:https://www.faithvictoria.org.au/upcoming-events/event/1933-maghi-sikhi
 sm
END:VEVENT
END:VCALENDAR
