BEGIN:VCALENDAR
VERSION:2.0
PRODID:-//https://www.faithvictoria.org.au///NONSGML kigkonsult.se iCalcreator 2.10.15//
METHOD:PUBLISH
BEGIN:VEVENT
UID:20260424T114917UTC-20507cPIvO@https://www.faithvictoria.org.au/
DTSTAMP:20260424T114917Z
DESCRIPTION:PongalStarts on Sunday 15 January 2023Ends on Wednesday 18 Janu
 ary 2023Religion: Hinduism\nPongal is a four-day harvest festival celebrat
 ed by Tamil people in India and Sri Lanka\, dedicated to the Hindu Son of 
 God Surya\, thanking Surya for agricultural abundance. https://www.faithvi
 ctoria.org.au/upcoming-events/event/1934-pongal-hinduism
DTSTART:20230115T000000Z
DTEND:20230118T171918Z
LOCATION:RSEvents!Pro Location (Colorado\, USA)
SUMMARY:Pongal | Hinduism
URL:https://www.faithvictoria.org.au/upcoming-events/event/1934-pongal-hind
 uism
END:VEVENT
END:VCALENDAR
