BEGIN:VCALENDAR
VERSION:2.0
PRODID:-//https://www.faithvictoria.org.au///NONSGML kigkonsult.se iCalcreator 2.10.15//
METHOD:PUBLISH
BEGIN:VEVENT
UID:20260424T132631UTC-2012wDIi9d@https://www.faithvictoria.org.au/
DTSTAMP:20260424T132631Z
DESCRIPTION:Epiphany Thursday 19 January 2023Faith: Orthodox Christianity&n
 bsp\;\nAlso known as The Feast of Theophany\, this observance commemorates
  Christ's baptism by John the Baptist in the River Jordan. https://www.fai
 thvictoria.org.au/upcoming-events/event/1935-epiphany-orthodox-christianit
 y
DTSTART;VALUE=DATE:20230119
LOCATION:RSEvents!Pro Location (Colorado\, USA)
SUMMARY:Epiphany | Orthodox Christianity
URL:https://www.faithvictoria.org.au/upcoming-events/event/1935-epiphany-or
 thodox-christianity
END:VEVENT
END:VCALENDAR
