BEGIN:VCALENDAR
VERSION:2.0
PRODID:-//https://www.faithvictoria.org.au///NONSGML kigkonsult.se iCalcreator 2.10.15//
METHOD:PUBLISH
BEGIN:VEVENT
UID:20260425T000342UTC-9880e63lNV@https://www.faithvictoria.org.au/
DTSTAMP:20260425T000342Z
DESCRIPTION:Epiphany Monday 19 January 2026Faith: Orthodox Christianity&nbs
 p\;\nFeast of Epiphany\, or Theophany\, commemorates Christ's baptism by J
 ohn the Baptist in the River Jordan\, and the manifestation of God in huma
 n form as Jesus Christ. Celebrated 12 days after Orthodox Christmas (Nativ
 ity). https://www.faithvictoria.org.au/upcoming-events/event/2341-feast-of
 -epiphany-orthodox-christianity
DTSTART;VALUE=DATE:20260119
LOCATION:RSEvents!Pro Location (Colorado\, USA)
SUMMARY:Feast of Epiphany | Orthodox Christianity
URL:https://www.faithvictoria.org.au/upcoming-events/event/2341-feast-of-ep
 iphany-orthodox-christianity
END:VEVENT
END:VCALENDAR
