BEGIN:VCALENDAR
VERSION:2.0
PRODID:-//https://www.faithvictoria.org.au///NONSGML kigkonsult.se iCalcreator 2.10.15//
METHOD:PUBLISH
BEGIN:VEVENT
UID:20260424T193252UTC-7345xW9sUp@https://www.faithvictoria.org.au/
DTSTAMP:20260424T193252Z
DESCRIPTION:Chinese New YearTuesday 22 January 2023Faith: Buddhism\nAlso kn
 own as Lunar New Year or the Spring Festival\, the Chinese New Year is the
  most important holiday in China and for Chinese people around the world. 
 Celebrated by Buddhist\, Confucian\, and Taoist practitioners. https://www
 .faithvictoria.org.au/upcoming-events/event/1936-chinese-new-year-buddhism
DTSTART;VALUE=DATE:20230122
LOCATION:RSEvents!Pro Location (Colorado\, USA)
SUMMARY:Chinese New Year | Buddhism
URL:https://www.faithvictoria.org.au/upcoming-events/event/1936-chinese-new
 -year-buddhism
END:VEVENT
END:VCALENDAR
