BEGIN:VCALENDAR
VERSION:2.0
PRODID:-//https://www.faithvictoria.org.au///NONSGML kigkonsult.se iCalcreator 2.10.15//
METHOD:PUBLISH
BEGIN:VEVENT
UID:20260424T001755UTC-6792xZ9MPL@https://www.faithvictoria.org.au/
DTSTAMP:20260424T001755Z
DESCRIPTION:Lailat al Bara'ah Tuesday 3 February 2026Faith: Islam\nLailat a
 l Bara'ah\, meaning night of salvation\, is one of the most sacred nights 
 on the Islamic calendar where practitioners seek forgiveness for sins. Shi
 a and Sunni interpretations may vary on the meaning of this date. https://
 www.faithvictoria.org.au/upcoming-events/event/2342-lailat-al-baraah-islam
DTSTART;VALUE=DATE:20260203
LOCATION:RSEvents!Pro Location (Colorado\, USA)
SUMMARY:Lailat al Bara'ah | Islam 
URL:https://www.faithvictoria.org.au/upcoming-events/event/2342-lailat-al-b
 araah-islam
END:VEVENT
END:VCALENDAR
