BEGIN:VCALENDAR
VERSION:2.0
PRODID:-//https://www.faithvictoria.org.au///NONSGML kigkonsult.se iCalcreator 2.10.15//
METHOD:PUBLISH
BEGIN:VEVENT
UID:20260423T113344UTC-4626MdTvrl@https://www.faithvictoria.org.au/
DTSTAMP:20260423T113344Z
DESCRIPTION:“The Status of Women Within Our Three Faiths”           Sunday 
 13th February to Tuesday 15nd  February 2011      An Exciting Initiative:
 \nAn invitation to young women to join the opening day of the Conference\n
 Sunday 13th February from 12 30pm to 9 pm\nYoung Women of Faith\nOffering 
 an interfaith experience and growth in understanding of culture and faith\
 , including ritual\, celebration\, reflection\, sharing\, entertainment an
 d meal.\n*Places limited to 20 young women*Participation is for Jewish\, C
 hristian and Muslim women who are between 17 and 25 years of age.    (JCMA
  is for people of the Abrahamic Faiths to develop relationships and friend
 ships)*Registration by Friday 14th  January 2011 at the latest. *Places fo
 r whole conference are available see forthcoming Pre-Conference Flyer*Cost
  of day conference is $35.00 including dinner – subsidy available if requi
 red. Enquire on application.*All meals vegetarianExtra InfoFor further inf
 ormation and application to:Rev. Coralie Ling\, JCMA Women's Conference Co
 mmitteeEmail: coralieling@bigpond.com or phone Faye 0400 344 101 or Di 040
 8 361 689 https://www.faithvictoria.org.au/upcoming-events/event/3-jcma-wo
 mens-conference
DTSTART:20110212T230000Z
DTEND:20110215T225959Z
LOCATION:Amberley Edmund Rice Centre - 7 Amberley Way\, Lower Plenty\, 309
 3 (Amberley Edmund Rice Centre - 7 Amberley Way\, Lower Plenty\, 3093)
SUMMARY:JCMA Women's Conference
URL:https://www.faithvictoria.org.au/upcoming-events/event/3-jcma-womens-co
 nference
END:VEVENT
END:VCALENDAR
