BEGIN:VCALENDAR
VERSION:2.0
PRODID:-//https://www.faithvictoria.org.au///NONSGML kigkonsult.se iCalcreator 2.10.15//
METHOD:PUBLISH
BEGIN:VEVENT
UID:20260423T041955UTC-54658DSaXo@https://www.faithvictoria.org.au/
DTSTAMP:20260423T041955Z
DESCRIPTION:MahaShivaratri Sunday 15 February 2026Faith: Hinduism\nMahaShiv
 aratri is a festival celebrating the Hindu deity\, Lord Shiva. According t
 o legend\, this is the night when Lord Shiva performs the cosmic dance of 
 creation\, preservation and destruction. Also known as ‘Great Night of Shi
 va’. https://www.faithvictoria.org.au/upcoming-events/event/2344-mahashiva
 ratri-hinduism
DTSTART;VALUE=DATE:20260215
LOCATION:RSEvents!Pro Location (Colorado\, USA)
SUMMARY:MahaShivaratri | Hinduism
URL:https://www.faithvictoria.org.au/upcoming-events/event/2344-mahashivara
 tri-hinduism
END:VEVENT
BEGIN:VEVENT
UID:20260423T041955UTC-54739UJ1Np@https://www.faithvictoria.org.au/
DTSTAMP:20260423T041955Z
DESCRIPTION:Nirvana DaySunday 15 February 2026Religion: Buddhism (Mahayana)
 \nNirvana Day celebrates the day when the Buddha is said to have achieved 
 complete enlightenment (Parinirvana) upon the death of his physical body a
 t the age of 80. Also known as ‘Parinirvana Day’. https://www.faithvictori
 a.org.au/upcoming-events/event/2345-nirvana-day-buddhism
DTSTART;VALUE=DATE:20260215
LOCATION:RSEvents!Pro Location (Colorado\, USA)
SUMMARY:Nirvana Day (Buddhism)
URL:https://www.faithvictoria.org.au/upcoming-events/event/2345-nirvana-day
 -buddhism
END:VEVENT
END:VCALENDAR
