BEGIN:VCALENDAR
VERSION:2.0
PRODID:-//https://www.faithvictoria.org.au///NONSGML kigkonsult.se iCalcreator 2.10.15//
METHOD:PUBLISH
BEGIN:VEVENT
UID:20260420T062958UTC-81095PbIPH@https://www.faithvictoria.org.au/
DTSTAMP:20260420T062958Z
DESCRIPTION: \nThe Forum on Religion and Ecology@Monash\, in association wi
 th the Monash Asia Institute\, presents a public lecture by: Professor Mic
 hael Northcott University of Edinburgh  on \nBuddhist Rituals\, Mosque Ser
 mons and Marine Turtles: Religion\, Ecology and the Conservation of a Dino
 saur in West Malaysia  \nDate: Tuesday March 1\, 2011   Time: 5.30    Room
 :  5.95 Building H\, Monash Caulfield Campus\nMichael Northcott is Profess
 or of Ethics in the School of Divinity at the University of Edinburgh. His
  research focuses principally on the interface between religion and ecolog
 y. His many publications include The Environment and Christian Ethics (Cam
 bridge: Cambridge University Press\, 1996)\, A Moral Climate: The Ethics o
 f Global Warming (New York: Orbis Books\, 2007) and Cuttlefish\, Clones an
 d Cluster Bombs: Preaching\, Politics and Ecology (London\, Darton Longman
  & Todd\, 2010). He is currently working on a number of projects including
  a book on the ethics of climate change for Cambridge University Press and
  a series of case studies of religion and ecology in the light of the pres
 ent extinction crisis which he intends to publish as The Ethics of Extinct
 ion. Professor Northcott has lived and worked in Malaysia as well as the U
 K\, and has been Visiting Professor at Duke University\, Dartmouth College
 \, Flinders University\, and the University of Malaya.\nThe newly created 
 Forum On Religion and Ecology@Monash is dedicated to promoting the study o
 f religious thought\, literature\, ethics and practice in relation to curr
 ent ecological concerns as a regional counterpart to FORE at Yale\, and wi
 th links to FORE in Canada\, the European Forum on Religion and the Enviro
 nment and similar associations elsewhere. https://www.faithvictoria.org.au
 /upcoming-events/event/330-professor-michael-northcott
DTSTART:20110301T163000Z
DTEND:20110301T140000Z
LOCATION:Room:  5.95 Building H\, Monash Caulfield Campus (Room:  5.95 Buil
 ding H\, Monash Caulfield Campus)
SUMMARY:Professor Michael Northcott
URL:https://www.faithvictoria.org.au/upcoming-events/event/330-professor-mi
 chael-northcott
END:VEVENT
END:VCALENDAR
