BEGIN:VCALENDAR
VERSION:2.0
PRODID:-//https://www.faithvictoria.org.au///NONSGML kigkonsult.se iCalcreator 2.10.15//
METHOD:PUBLISH
BEGIN:VEVENT
UID:20260422T004935UTC-889822chu8@https://www.faithvictoria.org.au/
DTSTAMP:20260422T004935Z
DESCRIPTION:RamadanBegins on 17 February 2026Ends on March 18 March 2026Fai
 th: Islam\nRamadan commemorates the revelation of the Qur'an to the Prophe
 t Muhammad. It is the holiest month for Muslims\, who dedicate themselves 
 to prayer\, reading of the Qur’an\, fasting during daylight hours\, and ch
 arity to the poor. https://www.faithvictoria.org.au/upcoming-events/event/
 2347-ramadan-islam
DTSTART:20260217T000000Z
DTEND:20260318T174059Z
LOCATION:RSEvents!Pro Location (Colorado\, USA)
SUMMARY:Ramadan | Islam 	
URL:https://www.faithvictoria.org.au/upcoming-events/event/2347-ramadan-isl
 am
END:VEVENT
BEGIN:VEVENT
UID:20260422T004935UTC-8905ZlF5vL@https://www.faithvictoria.org.au/
DTSTAMP:20260422T004935Z
DESCRIPTION:Lent begins on Ash Wednesday Begins on: February 18 2026Ends on
 : 2 April 2025Christianity\nLent is the period of 40 days (not including S
 undays) which comes before Easter\, traditionally a time of fasting and re
 flection. The 40 days represents the time Jesus spent in the desert overco
 ming temptation by Satan. In Western Christianity\, it begins on Ash Wedne
 sday and ends on Maundy Thursday. https://www.faithvictoria.org.au/upcomin
 g-events/event/2348-lent-begins-christianity
DTSTART:20260218T170139Z
DTEND:20260402T170139Z
LOCATION:RSEvents!Pro Location (Colorado\, USA)
SUMMARY:Lent begins | Christianity 
URL:https://www.faithvictoria.org.au/upcoming-events/event/2348-lent-begins
 -christianity
END:VEVENT
BEGIN:VEVENT
UID:20260422T004935UTC-8910v7GVMN@https://www.faithvictoria.org.au/
DTSTAMP:20260422T004935Z
DESCRIPTION:Great LentBegins on 23 February 2026Ends on 3 April 2026Orthodo
 x Christianity\nGreat Lent is the period of 40 days which comes before Eas
 ter\, traditionally a time of fasting and reflection. The 40 days represen
 ts the time Jesus spent in the desert overcoming temptation by Satan. In t
 he Orthodox Church\, Great Lent starts on Clean Monday and ends on the Fri
 day before Lazarus Saturday and Palm Sunday. https://www.faithvictoria.org
 .au/upcoming-events/event/2349-great-lent-orthodox-christianity
DTSTART:20260223T165912Z
DTEND:20260403T165912Z
LOCATION:RSEvents!Pro Location (Colorado\, USA)
SUMMARY:Great Lent | Orthodox Christianity 
URL:https://www.faithvictoria.org.au/upcoming-events/event/2349-great-lent-
 orthodox-christianity
END:VEVENT
BEGIN:VEVENT
UID:20260422T004935UTC-8915ubo3B2@https://www.faithvictoria.org.au/
DTSTAMP:20260422T004935Z
DESCRIPTION:Purim&nbsp\;Tuesday 3 March 2026 *Faith: Judaism\nPurim is a jo
 yous festival\, recalling the saving of the Jewish people living in Persia
  by the courage of a young Jewish woman\, Queen Esther. https://www.faithv
 ictoria.org.au/upcoming-events/event/2350-purim-judaism
DTSTART;VALUE=DATE:20260303
LOCATION:RSEvents!Pro Location (Colorado\, USA)
SUMMARY:Purim | Judaism
URL:https://www.faithvictoria.org.au/upcoming-events/event/2350-purim-judai
 sm
END:VEVENT
BEGIN:VEVENT
UID:20260422T004935UTC-8919rIPeeR@https://www.faithvictoria.org.au/
DTSTAMP:20260422T004935Z
DESCRIPTION:Magha Puja Day&nbsp\;Tuesday 03 March 2026Faith: Buddhism\nMagh
 a Puja Day commemorates the Buddha's teachings to a spontaneous gathering 
 of 1250 holy men (arahants). Also known as ‘Great Assembly Day’ or ‘Sangha
  Day’. https://www.faithvictoria.org.au/upcoming-events/event/2351-magha-p
 uja-day-buddhism
DTSTART;VALUE=DATE:20260303
LOCATION:RSEvents!Pro Location (Colorado\, USA)
SUMMARY:Magha Puja Day | Buddhism 	
URL:https://www.faithvictoria.org.au/upcoming-events/event/2351-magha-puja-
 day-buddhism
END:VEVENT
BEGIN:VEVENT
UID:20260422T004935UTC-89242ZoCzM@https://www.faithvictoria.org.au/
DTSTAMP:20260422T004935Z
DESCRIPTION:HoliTuesday 3 March 2026Faith: Hinduism\nHoli is a joyous Hindu
  festival celebrating spring\, the eternal and divine love of the Hindu de
 ities Radha and Krishna\, and Lord Vishnu’s triumph of good over evil. Bon
 fires are lit and people throw coloured water\, powder and dyes in celebra
 tion. https://www.faithvictoria.org.au/upcoming-events/event/2352-holi-hin
 duism
DTSTART;VALUE=DATE:20260303
LOCATION:RSEvents!Pro Location (Colorado\, USA)
SUMMARY:Holi | Hinduism
URL:https://www.faithvictoria.org.au/upcoming-events/event/2352-holi-hindui
 sm
END:VEVENT
END:VCALENDAR
