BEGIN:VCALENDAR
VERSION:2.0
PRODID:-//https://www.faithvictoria.org.au///NONSGML kigkonsult.se iCalcreator 2.10.15//
METHOD:PUBLISH
BEGIN:VEVENT
UID:20260420T011950UTC-0100m8jB11@https://www.faithvictoria.org.au/
DTSTAMP:20260420T011950Z
DESCRIPTION:This camp is for everyone who will be taking part in InterActio
 n programs in 2011. It is sure to be a heap of fun! We will get to spend a
  couple of days away\, to get to know one another much better and really s
 tart to put our ideas into action. This is the major event for 2011 volunt
 eers so be sure you don't miss it!\nPROGRAM:Friday night - fun fun fun!Sat
 urday - workshops & team buildingSunday - we get stuck in to our project p
 lanning\nVENUE:To be confirmed\, but somewhere in da country!\nOTHER INFO:
  Watch this space\, but save the date...! https://www.faithvictoria.org.au
 /upcoming-events/event/9-interaction-2011-retreat
DTSTART:20110304T153000Z
DTEND:20110306T170000Z
LOCATION:JEvents ()
SUMMARY:Interaction 2011 Retreat
URL:https://www.faithvictoria.org.au/upcoming-events/event/9-interaction-20
 11-retreat
END:VEVENT
END:VCALENDAR
