BEGIN:VCALENDAR
VERSION:2.0
PRODID:-//https://www.faithvictoria.org.au///NONSGML kigkonsult.se iCalcreator 2.10.15//
METHOD:PUBLISH
BEGIN:VEVENT
UID:20260420T081330UTC-0986fW3ohH@https://www.faithvictoria.org.au/
DTSTAMP:20260420T081330Z
DESCRIPTION:Ridvan is a twelve-day festival in the Bahai Faith\, commemorat
 ing the commencement of Baha'u'allah's prophethood. It begins at sunset Ap
 ril 20th and continues until sunset\, May 2nd. The most holy days of the f
 estival are the first\, nineth and twelfth days\, on which work is prohibi
 ted.\nRidvan means paradise\, and is named for the Garden of Ridvan\, outs
 ide Baghdad where Baha'u'allah stayed for twelve days after the Ottoman Em
 pire exiled him from Baghdad and before commencing his journey to Constant
 inople.\nIt is the most holy Bahai festival\, and is also referred to as t
 he Most Great Festival and the King of Festivals. https://www.faithvictori
 a.org.au/upcoming-events/event/227-ridvan-bahai
DTSTART:20110421T000000Z
DTEND:20110502T235959Z
LOCATION:JEvents ()
SUMMARY:Ridvan (Bahai)
URL:https://www.faithvictoria.org.au/upcoming-events/event/227-ridvan-bahai
END:VEVENT
END:VCALENDAR
