BEGIN:VCALENDAR
VERSION:2.0
PRODID:-//https://www.faithvictoria.org.au///NONSGML kigkonsult.se iCalcreator 2.10.15//
METHOD:PUBLISH
BEGIN:VEVENT
UID:20260420T044724UTC-1267RaBi35@https://www.faithvictoria.org.au/
DTSTAMP:20260420T044724Z
DESCRIPTION: \nWelcoming People of Different Faiths: Why and How?A lecture 
 by Sr Patricia Madigan OPDate: Wednesday 4 May 2011 Time: 7.30pm   Public 
 Forum Location: Cardinal Knox Centre Lecture Theatre  383 Albert St\, East
  Melbourne Contact: Email: kevinmeese@cam.org.au   Phone: (03) 9639 1344Pa
 tricia Madigan\, a Dominican sister\, is Executive Officer of the Broken B
 ay Diocese Commission for Ecumenical and Interfaith Relations and is exper
 ienced in interfaith dialogue in many contexts. She is a foundation member
  of the Women’s Interfaith Network (WIN) and a Christian representative on
  the Australian National Dialogue of Christians\, Jews and Muslims (ANDCJM
 ).\nBetween 2004 and 2008 she was an Australian delegate at four regional 
 inter-governmental conferences of the Asia-Pacific Regional Dialogue on In
 terfaith Cooperation for Peace and Harmony. Trish completed her doctoral s
 tudies at the University of Sydney on the topic of Women in Islam and Cath
 olicism.\nCLICK HERE TO VIEW BROCHURE https://www.faithvictoria.org.au/upc
 oming-events/event/334-welcoming-people-of-different-faiths-why-and-how
DTSTART:20110504T193000Z
DTEND:20110504T150000Z
LOCATION:JEvents ()
SUMMARY: Welcoming People of Different Faiths: Why and How 
URL:https://www.faithvictoria.org.au/upcoming-events/event/334-welcoming-pe
 ople-of-different-faiths-why-and-how
END:VEVENT
END:VCALENDAR
