BEGIN:VCALENDAR
VERSION:2.0
PRODID:-//https://www.faithvictoria.org.au///NONSGML kigkonsult.se iCalcreator 2.10.15//
METHOD:PUBLISH
BEGIN:VEVENT
UID:20260420T031143UTC-1964WVMgBJ@https://www.faithvictoria.org.au/
DTSTAMP:20260420T031143Z
DESCRIPTION: \nYou are invited to gather to reflect to pray as we remember 
 the destruction of six million Jews in the Holocaust\, the loss of somethi
 ng of our own humanity\, and to look forward in hope to peace.\nDate: THUR
 SDAY 5 May 2011 7.30 pm\nLocation: St. Paul's Cathedral\, Flinders and Swa
 nston Streets\, Melbourne\nAfter the service you are invited to share kosh
 er light refreshments and conversation.\n'And to them I will give in my ho
 use and within my walls a memorial and a name that shall not be cut off.' 
 (Isiah 56:5)\nFor the sake of the present we do not forget the past.\nAn i
 nitiative of the:\n    * Sub-Committee for Catholic-Jewish Relations of th
 e Ecumenical and Interfaith Commission of the Catholic Archdiocese of Melb
 ourne    * Uniting Church Synod of Victoria and Tasmania Working Group on 
 Christian-Jewish Relations    * Anglican Diocese of Melbourne Committee fo
 r Interfaith Relations https://www.faithvictoria.org.au/upcoming-events/ev
 ent/24-shoah-holocaust-memorial-service
DTSTART:20110505T193000Z
DTEND:20110505T150000Z
LOCATION:St. Paul's Cathedral\, Flinders and Swanston Streets\, Melbourne (
 St. Paul's Cathedral\, Flinders and Swanston Streets\, Melbourne)
SUMMARY:Shoah / Holocaust Memorial Service
URL:https://www.faithvictoria.org.au/upcoming-events/event/24-shoah-holocau
 st-memorial-service
END:VEVENT
END:VCALENDAR
