BEGIN:VCALENDAR
VERSION:2.0
PRODID:-//https://www.faithvictoria.org.au///NONSGML kigkonsult.se iCalcreator 2.10.15//
METHOD:PUBLISH
BEGIN:VEVENT
UID:20260420T150234UTC-3418UTb0rH@https://www.faithvictoria.org.au/
DTSTAMP:20260420T150234Z
DESCRIPTION: \nWhat if young people from all backgrounds and beliefs came t
 ogether... to change the world?\niAct is a 2-day leadership program that f
 ocuses on building the vision\, knowledge base & skills set of emerging yo
 ung leaders from diverse faith backgrounds. We invite YOU to be the change
  in your community by building bridges of understanding and co-operation. 
 Meet other inspiring young people and come together on projects of common 
 action for the common good.  Be part of the movement!\nWe invite nominatio
 ns from young people aged 16-30 to participate in the iAct training.  20 y
 oung leaders will be selected to participate.  Training will be held on Ma
 y 11-12 @ Monash University\, Clayton Campus.  Don't miss out\, apply toda
 y!\nCLICK HERE TO VIEW APPLICATION FORM\nSend your application to info@int
 eraction.org.au or contact us to find out more.Contact DetailsEmail: info@
 interaction.org.au https://www.faithvictoria.org.au/upcoming-events/event/
 26-iact-youth-leadership-program
DTSTART:20110511T090000Z
DTEND:20110512T150000Z
LOCATION:Monash University\, Clayton Campus (Monash University\, Clayton Ca
 mpus)
SUMMARY:iAct: Youth Leadership Program
URL:https://www.faithvictoria.org.au/upcoming-events/event/26-iact-youth-le
 adership-program
END:VEVENT
END:VCALENDAR
