BEGIN:VCALENDAR
VERSION:2.0
PRODID:-//https://www.faithvictoria.org.au///NONSGML kigkonsult.se iCalcreator 2.10.15//
METHOD:PUBLISH
BEGIN:VEVENT
UID:20260423T115338UTC-26106Edw6v@https://www.faithvictoria.org.au/
DTSTAMP:20260423T115338Z
DESCRIPTION:Shavuot Begins on&nbsp\;Friday 22 May 2026Ends on Saturday 23 M
 ay 2026Faith: Judaism\nShavuot celebrates the revelation of the Torah on M
 ount Sinai. Also known as Feast of Weeks. https://www.faithvictoria.org.au
 /upcoming-events/event/2374-shavuot-judaism
DTSTART:20260522T000000Z
DTEND:20260523T220009Z
LOCATION:RSEvents!Pro Location (Colorado\, USA)
SUMMARY:Shavuot | Judaism 	
URL:https://www.faithvictoria.org.au/upcoming-events/event/2374-shavuot-jud
 aism
END:VEVENT
END:VCALENDAR
