BEGIN:VCALENDAR
VERSION:2.0
PRODID:-//https://www.faithvictoria.org.au///NONSGML kigkonsult.se iCalcreator 2.10.15//
METHOD:PUBLISH
BEGIN:VEVENT
UID:20260423T151219UTC-9720R3vwUR@https://www.faithvictoria.org.au/
DTSTAMP:20260423T151219Z
DESCRIPTION:Declaration of the BabSunday 24 May 2026Faith: Baha'i\nDeclarat
 ion of the Bab commemorates when The Bab heralded the arrival of Baha’ulla
 h\, the founder of the Baha’i faith. https://www.faithvictoria.org.au/upco
 ming-events/event/2376-declaration-of-the-bab-bahai
DTSTART;VALUE=DATE:20260524
LOCATION:RSEvents!Pro Location (Colorado\, USA)
SUMMARY:Declaration of the Bab | Baha'i 	
URL:https://www.faithvictoria.org.au/upcoming-events/event/2376-declaration
 -of-the-bab-bahai
END:VEVENT
BEGIN:VEVENT
UID:20260423T151219UTC-9725EGtBps@https://www.faithvictoria.org.au/
DTSTAMP:20260423T151219Z
DESCRIPTION:PentecostSunday 24 May 2026Faith: Christianity\nPentecost comme
 morates the descent of the Holy Spirit upon the disciples of Jesus\, fifty
  days after Easter\, and the beginning of the Christian Church. https://ww
 w.faithvictoria.org.au/upcoming-events/event/2377-pentecost-christianity
DTSTART;VALUE=DATE:20260524
LOCATION:RSEvents!Pro Location (Colorado\, USA)
SUMMARY:Pentecost | Christianity 	
URL:https://www.faithvictoria.org.au/upcoming-events/event/2377-pentecost-c
 hristianity
END:VEVENT
END:VCALENDAR
