BEGIN:VCALENDAR
VERSION:2.0
PRODID:-//https://www.faithvictoria.org.au///NONSGML kigkonsult.se iCalcreator 2.10.15//
METHOD:PUBLISH
BEGIN:VEVENT
UID:20260424T224239UTC-2602aWZumv@https://www.faithvictoria.org.au/
DTSTAMP:20260424T224239Z
DESCRIPTION:Ascension of Baha'ullahSunday 29&nbsp\;May 2022Faith: Baha'i\nB
 aha’is observe the anniversary of the death in exile of Baha’u’llah\, the 
 founder of the Baha’i faith\, on May 29\, 1892\, outside Akko (now norther
 n Israel). https://www.faithvictoria.org.au/upcoming-events/event/1445-asc
 ension-of-bahaullah-bahai
DTSTART;VALUE=DATE:20220529
LOCATION:RSEvents!Pro Location (Colorado\, USA)
SUMMARY:Ascension of Baha'ullah | Baha'i
URL:https://www.faithvictoria.org.au/upcoming-events/event/1445-ascension-o
 f-bahaullah-bahai
END:VEVENT
END:VCALENDAR
