BEGIN:VCALENDAR
VERSION:2.0
PRODID:-//https://www.faithvictoria.org.au///NONSGML kigkonsult.se iCalcreator 2.10.15//
METHOD:PUBLISH
BEGIN:VEVENT
UID:20260423T232956UTC-3363iwtg9R@https://www.faithvictoria.org.au/
DTSTAMP:20260423T232956Z
DESCRIPTION:Eid Al Adha Begins on Wednesday 27 May 2026Ends on Saturday 30 
 May 2026Faith: Islam\nEid Al Adha * is a major festival commemorating Ibra
 him’s (Abraham) willingness to sacrifice his son as an act of submission t
 o God’s command. Also known as ‘Feast of Sacrifice’ and one of the two mai
 n Islamic festivals\, the other being Eid al Fitr. https://www.faithvictor
 ia.org.au/upcoming-events/event/2378-eid-al-adha-islam
DTSTART:20260527T173441Z
DTEND:20260530T173441Z
LOCATION:RSEvents!Pro Location (Colorado\, USA)
SUMMARY:Eid Al Adha | Islam 	
URL:https://www.faithvictoria.org.au/upcoming-events/event/2378-eid-al-adha
 -islam
END:VEVENT
BEGIN:VEVENT
UID:20260423T232956UTC-3367J9OOVJ@https://www.faithvictoria.org.au/
DTSTAMP:20260423T232956Z
DESCRIPTION:Ascension of Baha'ullahFriday 29 May 2026Faith: Baha'i\nAscensi
 on of Baha'ullah observes the anniversary of the death of Baha’u’llah\, th
 e founder of the Baha’i faith\, on May 29 1892 CE. https://www.faithvictor
 ia.org.au/upcoming-events/event/2379-ascension-of-bahaullah-bahai
DTSTART;VALUE=DATE:20260529
LOCATION:RSEvents!Pro Location (Colorado\, USA)
SUMMARY:Ascension of Baha'ullah | Baha'i
URL:https://www.faithvictoria.org.au/upcoming-events/event/2379-ascension-o
 f-bahaullah-bahai
END:VEVENT
END:VCALENDAR
