BEGIN:VCALENDAR
VERSION:2.0
PRODID:-//https://www.faithvictoria.org.au///NONSGML kigkonsult.se iCalcreator 2.10.15//
METHOD:PUBLISH
BEGIN:VEVENT
UID:20260424T201129UTC-65602dVnCn@https://www.faithvictoria.org.au/
DTSTAMP:20260424T201129Z
DESCRIPTION:The Australian Baha'i Community invites you to:\nThe Annual Nat
 ional Social Cohesion and Inclusion Conference 2022\nDates: Monday 30 May 
 2022&nbsp\; &nbsp\; Time: 6:30pm to 8:30pm (Opening evening)Tuesday 31 May
  2022&nbsp\; &nbsp\; Time: 9am to 5pmLocation:&nbsp\;Rydges World Square\,
  389 Pitt St\, Sydney NSW 2000\nOnline and live streaming option is availa
 ble\nThe 2022 National Social Cohesion and Inclusion Conference will be th
 e fourth annual conference hosted by the Australian Baha’i Community. Thes
 e conferences aim to be an ongoing space to explore the various settings\,
  approaches and methods that help to foster greater social cohesion and in
 clusion in Australia. They are opportunities for those who are thinking de
 eply about the progress of our country to deliberate\, learn\, share ideas
  and reflect on experience.&nbsp\;\nThis year’s conference will begin by h
 onouring and celebrating the thousands of well-wishers of humanity who cam
 e together at more than 85 of&nbsp\;The World Conferences&nbsp\;in Austral
 ia to deliberate on the material\, social and spiritual progress of our co
 untry and to identify steps required to traverse the obstacles impeding so
 cial cohesion. It brought together thousands of individuals and community 
 representatives from every part of Australia\, of all religions\, cultures
 \, ages and backgrounds\, who share a longing to foster social cohesion an
 d unity and to contribute to the betterment of the world. Their determinat
 ion and strong sense of purpose reflected in the spirit generated at these
  conferences\, hosted by local Baha’i communities across Australia. A repo
 rt capturing their insights\, hopes\, noble aspirations\, and unity of vis
 ion and action will be formally presented to the representatives of the Au
 stralian government at the opening reception. This will be followed by cul
 tural and artistic performances celebrating our cohesion\, diversity and t
 he oneness of humanity.\nThe remaining sessions of the conference will inc
 lude keynote presentations\, panels and small group consultations where ci
 vil society leaders and representatives will deliberate further on this re
 port and consult on steps to strengthen social cohesion. Themes for this y
 ear include:\n\n\nA vision of social cohesion in Australia\n\n\nThe distan
 ce traversed to strengthen social cohesion: Community\, Mass Media and Gov
 ernment Institutions\n\n\nObstacles impeding further progress\n\n\nGlimpse
 s of Social Transformation: Experiences from organisations and communities
  of practice\n\n\nBelow are links to the program\, speakers\, recorded ses
 sions and media of past conferences:\n\n\n2019 Conference\n\n\n2020 Confer
 ence\n\n\n2021 Conference\n\n\nThe Australian Baha'i Community is pleased 
 to offer scholarship opportunities for those who would like to participate
  in the National Social Cohesion and Inclusion Conference but may be preve
 nted from doing so due to financial limitations. Inquiries regarding schol
 arships can be sent to&nbsp\;ausbahaievents@bahai.org.au.\nRegistration fo
 r the 2022 National Social Cohesion and Inclusion Conference can be comple
 ted at this link.&nbsp\;\nIf you require further information\, contact&nbs
 p\;Parisa Farshid&nbsp\;02 9998 9222&nbsp\;|&nbsp\;0466 040 990\n\n&nbsp\;
 \n https://www.faithvictoria.org.au/upcoming-events/event/1870-national-so
 cial-cohesion-and-inclusion-conference
DTSTART:20220531T090000Z
DTEND:20220531T170000Z
LOCATION:Melbourne VIC 3000 (Melbourne VIC\, Australia)
SUMMARY:National Social Cohesion and Inclusion Conference
URL:https://www.faithvictoria.org.au/upcoming-events/event/1870-national-so
 cial-cohesion-and-inclusion-conference
END:VEVENT
END:VCALENDAR
