BEGIN:VCALENDAR
VERSION:2.0
PRODID:-//https://www.faithvictoria.org.au///NONSGML kigkonsult.se iCalcreator 2.10.15//
METHOD:PUBLISH
BEGIN:VEVENT
UID:20260424T024558UTC-0139D5hR0v@https://www.faithvictoria.org.au/
DTSTAMP:20260424T024558Z
DESCRIPTION:Saga Dawa Duchen (Tibetan)Sunday 31 May 2026Faith: Buddhism\nSa
 ga Dawa Duchen\, an important holy day for Tibetan Buddhists\, commemorate
 s the birth\, enlightenment\, and death of the Buddha. https://www.faithvi
 ctoria.org.au/upcoming-events/event/2380-saga-dawa-duchen-buddhism
DTSTART;VALUE=DATE:20260531
LOCATION:RSEvents!Pro Location (Colorado\, USA)
SUMMARY:Saga Dawa Duchen | Buddhism 
URL:https://www.faithvictoria.org.au/upcoming-events/event/2380-saga-dawa-d
 uchen-buddhism
END:VEVENT
END:VCALENDAR
