BEGIN:VCALENDAR
VERSION:2.0
PRODID:-//https://www.faithvictoria.org.au///NONSGML kigkonsult.se iCalcreator 2.10.15//
METHOD:PUBLISH
BEGIN:VEVENT
UID:20260424T095917UTC-8268g4MSsG@https://www.faithvictoria.org.au/
DTSTAMP:20260424T095917Z
DESCRIPTION:The  Boroondara Interfaith Network will be working with local i
 nterfaith  environmental organisation\, GreenFaith Australia\, to hold thi
 s gathering in  celebration of World Environment Day. This event will expl
 ore the relationship  between ethics\, religion and our environment from d
 iverse faith  perspectives.\nTopic: Religion and Ecology ForumDate: Sunday
  5 June 2011   Time: 3pm – 5pmLocation: The Leo Baeck Centre\, 31-37 Harp 
 Road\, East Kew (parking at rear)\nAll  community members are welcome to t
 his free event. Afternoon tea is provided.  Bookings are essential.\nCLICK
  HERE TO VIEW FLYER \nTo book go  to: boroondarainterfaithnetwork.eventbri
 te.com or  call Community Planning on 9278 4753  or email:  elyse.rider@bo
 roondara.vic.gov.auContact DetailsCommunity Planning on 9278 4753  or emai
 l:  elyse.rider@boroondara.vic.gov.au https://www.faithvictoria.org.au/upc
 oming-events/event/305-religion-and-ecology-forum
DTSTART:20110605T150000Z
DTEND:20110605T170000Z
LOCATION:The Leo Baeck Centre\, 31-37 Harp Road\, East Kew (parking at rear
 ) (The Leo Baeck Centre\, 31-37 Harp Road\, East Kew (parking at rear))
SUMMARY:Religion and Ecology Forum
URL:https://www.faithvictoria.org.au/upcoming-events/event/305-religion-and
 -ecology-forum
END:VEVENT
END:VCALENDAR
