BEGIN:VCALENDAR
VERSION:2.0
PRODID:-//https://www.faithvictoria.org.au///NONSGML kigkonsult.se iCalcreator 2.10.15//
METHOD:PUBLISH
BEGIN:VEVENT
UID:20260424T152208UTC-622967sKli@https://www.faithvictoria.org.au/
DTSTAMP:20260424T152208Z
DESCRIPTION:Shavuot Begins on&nbsp\;Sunday 5 June 2022Ends on Monday&nbsp\;
 6 June 2022Faith: Judaism\nShavuot\, also known as Feast of Weeks\, commem
 orates the anniversary of the day God gave the Torah and Commandments to t
 he entire nation of Israel assembled at Mount Sinai. Marks the conclusion 
 of the seven weeks following Pesach. Originally a harvest festival. https:
 //www.faithvictoria.org.au/upcoming-events/event/1448-shavuot-judaism
DTSTART:20220605T000000Z
DTEND:20220606T220009Z
LOCATION:RSEvents!Pro Location (Colorado\, USA)
SUMMARY:Shavuot | Judaism 	
URL:https://www.faithvictoria.org.au/upcoming-events/event/1448-shavuot-jud
 aism
END:VEVENT
BEGIN:VEVENT
UID:20260424T152208UTC-6232mMLzFT@https://www.faithvictoria.org.au/
DTSTAMP:20260424T152208Z
DESCRIPTION:PentecostSunday 5 June 2022Faith: Christianity\nPentecost comme
 morates the descent of the Holy Spirit upon the disciples of Jesus seven w
 eeks (50 days) after the Resurrection (Easter). It also commemorates the f
 ounding of the Christian Church\, which begins on this day. [Celebrated on
  12th of June by Orthodox Christians]. https://www.faithvictoria.org.au/up
 coming-events/event/1449-pentecost-christianity
DTSTART;VALUE=DATE:20220605
LOCATION:RSEvents!Pro Location (Colorado\, USA)
SUMMARY:Pentecost | Christianity 	
URL:https://www.faithvictoria.org.au/upcoming-events/event/1449-pentecost-c
 hristianity
END:VEVENT
END:VCALENDAR
