BEGIN:VCALENDAR
VERSION:2.0
PRODID:-//https://www.faithvictoria.org.au///NONSGML kigkonsult.se iCalcreator 2.10.15//
METHOD:PUBLISH
BEGIN:VEVENT
UID:20260424T095548UTC-2823f2dnWv@https://www.faithvictoria.org.au/
DTSTAMP:20260424T095548Z
DESCRIPTION: \nShavuot is a Jewish holiday that commemorates the anniversar
 y of the day God gave the Torah to the Israelite nation assembled at Mount
  Sinai. The date of Shavuot is directly linked to that of Passover. On Pas
 sover\, the Jewish people were freed from their enslavement to Pharaoh\; o
 n Shavuot they were given the Torah and became a nation committed to servi
 ng God.\nShavuot is also connected to the season of the grain harvest in I
 srael. In ancient times\, the grain harvest lasted seven weeks and was a s
 eason of gladness. It began with the harvesting of the barley during Passo
 ver and ended with the harvesting of the wheat at Shavuot. Shavuot was thu
 s the concluding festival of the grain harvest. https://www.faithvictoria.
 org.au/upcoming-events/event/234-shavuot-judaism
DTSTART:20110607T000000Z
DTEND:20110608T235959Z
LOCATION:JEvents ()
SUMMARY:Shavuot (Judaism)
URL:https://www.faithvictoria.org.au/upcoming-events/event/234-shavuot-juda
 ism
END:VEVENT
END:VCALENDAR
