BEGIN:VCALENDAR
VERSION:2.0
PRODID:-//https://www.faithvictoria.org.au///NONSGML kigkonsult.se iCalcreator 2.10.15//
METHOD:PUBLISH
BEGIN:VEVENT
UID:20260424T190510UTC-4873FinTPv@https://www.faithvictoria.org.au/
DTSTAMP:20260424T190510Z
DESCRIPTION:Pentecost is one of the prominent feasts in Christianity commem
 orating the descent of the Holy Spirit upon the Apostles and other followe
 rs of Jesus after the Resurrection. Pentecost is celebrated seven weeks (5
 0 days) after Easter Sunday\, and is sometimes described as the 'Birthday 
 of the Church'.Pentecost is historically and symbolically related to the J
 ewish harvest festival of Shavuot\, which commemorates God giving the Ten 
 Commandments at Mount Sinai fifty days after the Exodus. https://www.faith
 victoria.org.au/upcoming-events/event/230-pentecost-christianity
DTSTART;VALUE=DATE:20110611
LOCATION:JEvents ()
SUMMARY:Pentecost (Christianity)
URL:https://www.faithvictoria.org.au/upcoming-events/event/230-pentecost-ch
 ristianity
END:VEVENT
END:VCALENDAR
