BEGIN:VCALENDAR
VERSION:2.0
PRODID:-//https://www.faithvictoria.org.au///NONSGML kigkonsult.se iCalcreator 2.10.15//
METHOD:PUBLISH
BEGIN:VEVENT
UID:20260425T035109UTC-47885uZnNN@https://www.faithvictoria.org.au/
DTSTAMP:20260425T035109Z
DESCRIPTION:Uniting Church in Australia invites you to:\nBook Launch:&nbsp\
 ;“Reflective Being\, Being Reflective” - 25 years of multi-faith perspecti
 ves on disability and spirituality in Australia and Aotearoa New Zealand\n
 Date: Tuesday 14 June 2022&nbsp\; &nbsp\; &nbsp\; Time: 2pmLocation:&nbsp\
 ;Wesley Place\, Level 2\, 130 Lonsdale Street\, Melbourne\nTo be launched 
 by:\n\nMs Meredith Allan: World President\, 2018-2020 (International Socie
 ty for Augmentative and Alternative Communication (ISAAC). Member of Uniti
 ng Church in Australia.and\nRev Vicki Terrell: Disability Ministry Educato
 r: Resource and Development facilitator. Anglican Church of Aotearoa\, New
  Zealand and Polynesia.\nWelcome to Country:Uncle John Baxter: Aboriginal 
 Partnership Coordinator\, Brotherhood of St Laurence\n\nTo register please
  visit here&nbsp\; https://www.faithvictoria.org.au/upcoming-events/event/
 1872-book-launch-uniting-church-in-australia
DTSTART:20220614T140000Z
DTEND:20220614T160000Z
LOCATION:Wesley Place\, Level 2\, 130 Lonsdale Street\, Melbourne VIC 3000 
 (130 Lonsdale St\, Melbourne VIC 3000\, Australia)
SUMMARY:Book Launch: Uniting Church in Australia
URL:https://www.faithvictoria.org.au/upcoming-events/event/1872-book-launch
 -uniting-church-in-australia
END:VEVENT
BEGIN:VEVENT
UID:20260425T035109UTC-4797Nald7i@https://www.faithvictoria.org.au/
DTSTAMP:20260425T035109Z
DESCRIPTION:The Jewish Christian Muslim Association invites you to:\n“Back 
 to the Future: The Condition of Jewish Belief (1966)”\nDate: Tuesday 14 Ju
 ne 2022&nbsp\; &nbsp\; &nbsp\; Time: 7pm to 8:30pmLocation: Online via Zoo
 m\nIn 1966\, Commentary Magazine published 38 essays on The Condition of J
 ewish Belief. It focused on five questions and invited a number of rabbis\
 , theologians and philosophers to reflect on the state of Jewish belief.\n
 In a “Back to the Future” time-warp\, our June discussion group will look 
 at three of the 38 essays by: Eliezer Berkovits\, Emil Fackenheim and Jaco
 b Neusner and reflect on how much has changed in the last 56 years?\nWe wi
 ll seek to learn something about the nature of Jewish belief today from a 
 time when religious belief across the Western world was changing radically
 . We hope to stimulate discussion around the way that not only Jewish beli
 ef but also Christianity and Islam has been challenged by “modern” outlook
 s.\nPlease take the time to read some of the essays before the discussion.
  Download here the reading for this months online discussion: The Conditio
 n of Jewish Belief \, an edited version of the source document with the in
 troduction and three of the included articles.\nTo Register: Eventbrite\nC
 ost: Free\nFor more information: David Schutz: 0400 978 938 or Lorraine Li
 pson: 0419 687 593\nBackground reading download here: The Condition of Jew
 ish Belief\nRegistrationAll those who register will be emailed further det
 ails and the Zoom link for the virtual event nearer the time of the event.
  We ask that all participants review the JCMA Principles of Dialogue by vi
 siting this link prior to the event.\nDownload here the reading for this m
 onths online discussion: The Condition of Jewish Belief .\nWe will be usin
 g Zoom to host the discussion. So some of you will be familiar with zoom o
 r similar on-line meeting platform. For those who are not familiar with Zo
 om please let me know and I can assist you prior to the meeting and will b
 e sending out instructions.\nWe look forward to your participation in what
  promises to be a topical and stimulating event.\nFind us on Facebook at h
 ttp://facebook.com/jcmaonline and Twitter http://twitter.com/jcmaoz https:
 //www.faithvictoria.org.au/upcoming-events/event/1875-back-to-the-future-j
 ewish-christian-muslim-association-of-australia
DTSTART:20220614T190000Z
DTEND:20220614T203000Z
LOCATION:Melbourne VIC 3000 (Melbourne VIC\, Australia)
SUMMARY:Back to the Future: Jewish Christian Muslim Association of Australi
 a
URL:https://www.faithvictoria.org.au/upcoming-events/event/1875-back-to-the
 -future-jewish-christian-muslim-association-of-australia
END:VEVENT
END:VCALENDAR
