BEGIN:VCALENDAR
VERSION:2.0
PRODID:-//https://www.faithvictoria.org.au///NONSGML kigkonsult.se iCalcreator 2.10.15//
METHOD:PUBLISH
BEGIN:VEVENT
UID:20260424T074612UTC-3448H2w84k@https://www.faithvictoria.org.au/
DTSTAMP:20260424T074612Z
DESCRIPTION: \nOn the 18-24 July\, 2011 there will be one hundred and thirt
 y people from fifteen  countries gathering at Phillip Island for the 17th 
 Asia Pacific Youth Conference  (APYC).  The conference aims to develop vis
 ionary\, humble leadership\,  create trust through dialogue and respond to
  needs across the region. Young  leaders will come together from 17 Asia-P
 acific countries and from many  faith backgrounds to exchange experiences\
 , learn new ideas and  develop action plans on how they can work together.
  The theme is Action for  Global Change Through Personal Transformation. T
 here will be community  leaders and activists speaking\, workshops for peo
 ple to develop a  multi-faith perspective and learn skills on community ch
 ange\,  cultural connections leading to new friendships\, story sharing\, 
 music\, arts and  more. Over the last 21 years\, the Asia Pacific Youth Co
 nference (APYC)  has built an international network of hundreds of youth w
 ho are bringing change  – locally and nationally – in their communities\, 
 starting with themselves. In  the 2004 APYC a dialogue of forgiveness and 
 reconciliation began between  Cambodian and Vietnamese young people buildi
 ng bridges of trust. Their program  has continued for five years with exch
 ange visits and training programs. Now a  similar initiative has begun bet
 ween Cambodians and Thais in response to the  border conflict these countr
 ies are currently experiencing.The  conference is open to all between 18-3
 5 years of age who want to take leadership  or link in with networks of pe
 ople who want to learn more about what they can do  to make a difference. 
 This event is conducted by Initiatives of Change  (www.iofc.org) an intern
 ational network that has focussed on reconciliation\,  partnership buildin
 g and good governance for more than 70 years. Initiatives of  Change is pr
 oud to be hosting this event in partnership with Bass Shire Council  and t
 he Victorian Multi-Cultural Commission.Contact details available at  www.A
 PYC2011.org\n\nClick here to view Brochure\nContact DetailsRegister Online
 :  www.APYC2011.org https://www.faithvictoria.org.au/upcoming-events/event
 /31-asia-pacific-youth-conference
DTSTART:20110718T000000Z
DTEND:20110724T235959Z
LOCATION:CYC The Island\, Church Street\, Phillip Island\, Victoria\, Austr
 alia (CYC The Island\, Church Street\, Phillip Island\, Victoria\, Austral
 ia)
SUMMARY:Asia-Pacific Youth Conference
URL:https://www.faithvictoria.org.au/upcoming-events/event/31-asia-pacific-
 youth-conference
END:VEVENT
BEGIN:VEVENT
UID:20260424T074612UTC-3463HpGuVs@https://www.faithvictoria.org.au/
DTSTAMP:20260424T074612Z
DESCRIPTION:JCMA Jewish Christian Muslim Association of Australia presents:
 \nDVD Night: The Faith Club -  A JCMA Women's Only EventA discussion will 
 follow\, led by Nola VanderfeenWhen: Wednesday 20th of July\, 2011      Ti
 me: 7:15 PM for 7:30 PM till 9:30 PMWhere: Springvale Neighbourhood House\
 , 46 – 50 Queens Avenue\, Springvale  (Melways reference 79 J8 K8) (Queens
  Avenue is one way. Enter from Osborne Avenue via Victoria Avenue) Cost: g
 old coin donation   Light refreshments will be provided.\nRSVP to Samar at
  samar.aframougharbel@gmail.comFurther information please contact: Bev: 95
 69 8684   Samar: 0414308855 ____________The Faith Club is the culmination 
 of two years of discussion between three women who came together in the wa
 ke of 9/11\, with the original goal to create a children's book\, helping 
 to educate children about the three religions\, Christianity\, Judaism and
  Islam\, and to teach tolerance. Suzanne Oliver\, Priscilla Warner and Ran
 ya Idliby\, after the initial meetings\, quickly realised that they did no
 t know enough about each other's faith – let alone their own – to meet thi
 s purpose. Recreating their goal\, the Faith Club was born. They meet mont
 hly with the new mission to gain further understanding of each other's fai
 th.With courage\, pain\, and sometimes tears\, Ranya\, Suzanne\, and Prisc
 illa found themselves completely transformed by the experience inside the 
 safe cocoon of the Faith Club\, and they realise that they had learned thi
 ngs so powerful they wanted to share them with the rest of the world. This
  is their story.\nCLICK HERE TO VIEW BROCHURE\n  https://www.faithvictoria
 .org.au/upcoming-events/event/37-dvd-night-the-faith-club-jcma-womens-even
 t
DTSTART:20110720T193000Z
DTEND:20110720T213000Z
LOCATION:JEvents ()
SUMMARY:DVD Night: The Faith Club (JCMA Women's Event)
URL:https://www.faithvictoria.org.au/upcoming-events/event/37-dvd-night-the
 -faith-club-jcma-womens-event
END:VEVENT
END:VCALENDAR
