BEGIN:VCALENDAR
VERSION:2.0
PRODID:-//https://www.faithvictoria.org.au///NONSGML kigkonsult.se iCalcreator 2.10.15//
METHOD:PUBLISH
BEGIN:VEVENT
UID:20260422T184444UTC-8469MJAcfm@https://www.faithvictoria.org.au/
DTSTAMP:20260422T184444Z
DESCRIPTION: \nMultifaith Youth Retreatpresented by Shiva Yoga in associati
 on with Interaction Multifaith Youth NetworkA free two-day residential ret
 reat open to young people (18-26 years old) from diverse faith backgrounds
 . Food\, accommodation and activities all provided. Limited places availab
 le.-  Learn about shared values of diverse faith traditions-  Exchange ide
 as with people from other faiths and work towards common action-  Develop 
 skills to become a future leader in your own faith community-  Get your ha
 nds dirty building a Multifaith GardenWhen: September 10 & 11\, 2011   Sta
 rting Time: 10:00am (Saturday 10th)   Finishing Time: 4pm  (Sunday 11th)\n
 Where: Shiva School of Meditation & Yoga - 27 Tower Road\, Mount Eliza VIC
  3930Cost: Free       To Apply: ring Shiva Yoga (03) 9775 2568Contact Deta
 ilsShiva Yoga: (03) 9775 2568 https://www.faithvictoria.org.au/upcoming-ev
 ents/event/39-multifaith-youth-retreat
DTSTART:20110910T100000Z
DTEND:20110911T163000Z
LOCATION:Shiva School of Meditation & Yoga - 27 Tower Road\, Mount Eliza VI
 C 3930 (Shiva School of Meditation & Yoga - 27 Tower Road\, Mount Eliza VI
 C 3930)
SUMMARY:Multifaith Youth Retreat
URL:https://www.faithvictoria.org.au/upcoming-events/event/39-multifaith-yo
 uth-retreat
END:VEVENT
BEGIN:VEVENT
UID:20260422T184444UTC-8475BGkshB@https://www.faithvictoria.org.au/
DTSTAMP:20260422T184444Z
DESCRIPTION: \nTenth Anniversary of 9/11 Terrorist Attack in the United Sta
 tesMeditations and Prayers for Peace\nDate: Sunday September 11\, 2011   T
 ime: 1.00 pm to 1.45 pmLocation: St Paul's Cathedral\, Melbourne (Corner F
 linders and Swanston Streets)\nA Service of Sacred Music\, Silent Prayer (
 A Guide of Prayers from World Religions provided) with Personal Reflection
 s by:\n\nProfessor Ismail Albayrak\, Fethullah Gulen Chair in the Study of
  Islam and Muslim-Catholic Relations\, Asia-Pacific Centre for Interreligi
 ous Dialogue\, Australian Catholic University\,\nBishop Philip Huggins\, N
 orth-West Region\, Chair Multi-Cultural Ministry\, Chair Social Responsibi
 lities Committee\, Anglican Diocese of Melbourne.\n\nPeople of all faiths 
 welcome.\nClick here to view flyer\n Contact DetailsBishop Philip Huggins 
 -  Phone: (03) 9653 4243 Email: nwregionbishop@melbourne.anglican.com.au h
 ttps://www.faithvictoria.org.au/upcoming-events/event/43-tenth-anniversary
 -of-9-11
DTSTART:20110911T130000Z
DTEND:20110911T134500Z
LOCATION:St Paul's Cathedral\, Melbourne (Corner Flinders and Swanston Stre
 ets) (St Paul's Cathedral\, Melbourne (Corner Flinders and Swanston Street
 s))
SUMMARY:Tenth Anniversary of 9/11
URL:https://www.faithvictoria.org.au/upcoming-events/event/43-tenth-anniver
 sary-of-9-11
END:VEVENT
END:VCALENDAR
