BEGIN:VCALENDAR
VERSION:2.0
PRODID:-//https://www.faithvictoria.org.au///NONSGML kigkonsult.se iCalcreator 2.10.15//
METHOD:PUBLISH
BEGIN:VEVENT
UID:20260422T073458UTC-4137dDSOtJ@https://www.faithvictoria.org.au/
DTSTAMP:20260422T073458Z
DESCRIPTION: \nThe Yarra Interfaith Network (YIN) working group warmly invi
 tes your faith community to attend a Yarra Interfaith Forum• to broaden th
 e Yarra Interfaith Network• to explore opportunities to engage with Yarra’
 s faith communities• to celebrate the United Nation’s International Day of
  Peace.\nCelebrating the International Day of PeaceVenue: Richmond Town Ha
 llDate: Sunday 18 September 2011Time: 3.00pm – 6.00pm\nRSVP: Angela Hose b
 y Friday 9 SeptemberEmail: angela.hose@gmail.comPhone: 0424 066 949\nClick
  here to view flyer\n Contact DetailsAngela Jose - Phone: 0424 066 949  Em
 ail: angela.hose@gmail.com https://www.faithvictoria.org.au/upcoming-event
 s/event/311-yarra-interfaith-forum
DTSTART:20110918T150000Z
DTEND:20110918T180000Z
LOCATION:Richmond Town Hall\, 333 Bridge Road\, Richmond (Richmond Town Hal
 l\, 333 Bridge Road\, Richmond)
SUMMARY:Yarra Interfaith Forum
URL:https://www.faithvictoria.org.au/upcoming-events/event/311-yarra-interf
 aith-forum
END:VEVENT
END:VCALENDAR
