BEGIN:VCALENDAR
VERSION:2.0
PRODID:-//https://www.faithvictoria.org.au///NONSGML kigkonsult.se iCalcreator 2.10.15//
METHOD:PUBLISH
BEGIN:VEVENT
UID:20260422T023532UTC-4297OP3iCj@https://www.faithvictoria.org.au/
DTSTAMP:20260422T023532Z
DESCRIPTION: \nCentre of Melbourne MultiFaith & Others Network with support
  of GREENFAITH AUSTRALIA \, Women's InterFaith Network Foundation and More
 land City Council proudly presents:UN INTERNATIONAL PEACE DAY - SHARING OU
 R ENVIRONMENTLet's learn\, share and respect our environment together.A FU
 N & FREE family evening with a vegetarian meal provided for all.Location: 
 Brunswick Town Hall - 233 Sydney Road\, Brunswick\nDate: Wednesday\, 21st 
 September 2011    Time: 5pm-8:30pm\nMore information: www.common.org.au ht
 tps://www.faithvictoria.org.au/upcoming-events/event/343-sharing-our-envir
 onment-un-international-peace-day
DTSTART:20110921T170000Z
DTEND:20110921T203000Z
LOCATION:JEvents ()
SUMMARY: ' Sharing Our Environment'  - UN International Peace Day
URL:https://www.faithvictoria.org.au/upcoming-events/event/343-sharing-our-
 environment-un-international-peace-day
END:VEVENT
END:VCALENDAR
