BEGIN:VCALENDAR
VERSION:2.0
PRODID:-//https://www.faithvictoria.org.au///NONSGML kigkonsult.se iCalcreator 2.10.15//
METHOD:PUBLISH
BEGIN:VEVENT
UID:20260421T213628UTC-3825WpwKZV@https://www.faithvictoria.org.au/
DTSTAMP:20260421T213628Z
DESCRIPTION: \nThe Land is Sacred. The Land inspires us. The Land’s  beauty
  and majesty moves us in awe\, wonder and reverence. Yet we often  treat t
 he Land as an object instead of an integral part of ourselves.  ‘Listening
  to the Land’ is an initiative of the Mornington Peninsula  Interfaith Net
 work\, seeking to bring people from all religious and  spiritual backgroun
 ds together to connect or reconnect with the Land and  to be moved to care
  for the Land.\nOur Spring 'Listening to the Land' programme will be  held
  at Arthur's Seat (Wonga) on Saturday 24th September\, 2011. Programme  be
 gins at 11:00am and includes an introductory talk\, walking meditation  an
 d a shared lunch. The walk and meditation will be led  by Gunditjamara Eld
 er\, Uncle Lionel Lauch.\nLook forward to seeing you there – sunshine or r
 ain. The event is by Donation.\nPlease note: BYO Vegetarian food to share 
 after the walk. Look forward to seeing you there – sunshine or rain. The e
 vent is by donation.\nVenue: Wonga Walk - OT Dam\, Arthurs Seat Road\, Art
 hurs Seat\, Mornington Peninsula\nDate: Saturday 24th September 2011Time: 
 11:00am–2pm  (Lunch @ 1pm BYO Vegetarian to share)Cost: By donationMeeting
  Point: Car Park @ Arthurs Seat Road (see flyer)More information: Reverend
  Hans Christiansen 0406 243 783\nClick here to view flyer\n Contact Detail
 sReverend Hans Christiansen 0406 243 783 https://www.faithvictoria.org.au/
 upcoming-events/event/41-listening-to-the-land-arthurs-seat-wonga
DTSTART:20110924T110000Z
DTEND:20110924T140000Z
LOCATION:OT Dam\, Arthurs Seat Road\, Arthurs Seat\, Mornington Peninsula (
 OT Dam\, Arthurs Seat Road\, Arthurs Seat\, Mornington Peninsula)
SUMMARY:Listening to the Land: Arthurs Seat (Wonga)
URL:https://www.faithvictoria.org.au/upcoming-events/event/41-listening-to-
 the-land-arthurs-seat-wonga
END:VEVENT
BEGIN:VEVENT
UID:20260421T213628UTC-3836FH3J4h@https://www.faithvictoria.org.au/
DTSTAMP:20260421T213628Z
DESCRIPTION: \niAct is a 2 day training program that is focussed on buildin
 g the vision\, knowledge & skills of emerging young leaders from diverse f
 aith backgrounds. Throughout the workshops you will learn about religious 
 differences\, shared values\, the power of communication and how to be a p
 eacebuilder. You will come together with others to devise your own social 
 action projects and make them happen!\nThe training is designed and run by
  InterAction’s experienced young leaders who will share their skills and o
 ffer ongoing mentoring and support. We have the support of the Australian 
 Multicultural Foundation\, the Victorian Multicultural Commission\, the UN
 ESCO chair in interreligious & intercultural relations\, the United Religi
 ons Initiative. This project has been funded by the Australian Government 
 acting through the Attorney-General's Department.\nApply today! We invite 
 you to be the change in your community by building bridges of understandin
 g and co-operation. Download the application form from our website (www.in
 teraction.org.au)  to apply today!Contact Detailswww.interaction.org.au ht
 tps://www.faithvictoria.org.au/upcoming-events/event/46-iact-multifaith-yo
 uth-training-program
DTSTART:20110924T000000Z
DTEND:20110925T235959Z
LOCATION:Monash University (Monash University)
SUMMARY:iAct: Multifaith Youth Training Program
URL:https://www.faithvictoria.org.au/upcoming-events/event/46-iact-multifai
 th-youth-training-program
END:VEVENT
BEGIN:VEVENT
UID:20260421T213628UTC-3844DIfCNe@https://www.faithvictoria.org.au/
DTSTAMP:20260421T213628Z
DESCRIPTION: \nTheme: Welcoming the stranger under the southern cross\nA Re
 treat between young Muslims & Christians accompanied by: Fr. Herman Roborg
 h S.J. & Imam Afroz Ali\nWhere: Campion Centre of Ignatian Spirituality - 
 99 Studley Park Road\, Kew VIC 3101\nWhen: Saturday\, 24 September - Sunda
 y\, 25 September 2011\nTime: 11:00am Saturday - 5:00pm Sunday (overnight s
 tay)\nCost: A contribution of $20 would be appreciated.\nAll meals and fac
 ilities provided\nRegistration: Madeline Mason - 0430 312 165 or  Feriyal 
 Glaidous - 0401 941 392\nCLICK HERE TO VIEW BROCHURE (INCLUDES TIMETABLE)
 \n Contact DetailsMadeline Mason - 0430 312 165 or  Feriyal Glaidous - 040
 1 941 39 https://www.faithvictoria.org.au/upcoming-events/event/376-encoun
 ters-between-young-muslims-christians
DTSTART:20110924T110000Z
DTEND:20110925T170000Z
LOCATION:Campion Centre of Ignatian Spirituality - 99 Studley Park Road\, K
 ew VIC 3101 (Campion Centre of Ignatian Spirituality - 99 Studley Park Roa
 d\, Kew VIC 3101)
SUMMARY:Encounters between young Muslims & Christians
URL:https://www.faithvictoria.org.au/upcoming-events/event/376-encounters-b
 etween-young-muslims-christians
END:VEVENT
END:VCALENDAR
