BEGIN:VCALENDAR
VERSION:2.0
PRODID:-//https://www.faithvictoria.org.au///NONSGML kigkonsult.se iCalcreator 2.10.15//
METHOD:PUBLISH
BEGIN:VEVENT
UID:20260421T120242UTC-3816MAEA5w@https://www.faithvictoria.org.au/
DTSTAMP:20260421T120242Z
DESCRIPTION: \nRosh Hashanah marks the start of a new year in the Hebrew ca
 lendar. Jews believe Rosh Hashanah represents the creation of the World (o
 r Universe)\, although one view in the Talmud suggests Rosh Hashanah comme
 morates the creation of Man.\nThe two-day festival is a time to reflect on
  the mistakes of the preceding year\, and to make plans of a better life f
 or the coming year. Work is not permitted during Rosh Hashanah\, with much
  of the first day spent at synagogue. The extended service held on that da
 y includes the observance of the sounding of the shofar (ram's horn trumpe
 t).\nDuration: Sunset 28th September\, 2011 - Nightfall 30th September\, 2
 011 https://www.faithvictoria.org.au/upcoming-events/event/236-rosh-hashan
 ah-judaism
DTSTART:20110928T000000Z
DTEND:20110930T235959Z
LOCATION:JEvents ()
SUMMARY:Rosh Hashanah (Judaism)
URL:https://www.faithvictoria.org.au/upcoming-events/event/236-rosh-hashana
 h-judaism
END:VEVENT
BEGIN:VEVENT
UID:20260421T120242UTC-3825rtskJs@https://www.faithvictoria.org.au/
DTSTAMP:20260421T120242Z
DESCRIPTION: \nNavaratri is a Hindu festival of worship and dance devoted t
 o the Goddess Shakti (Divine Mother). The word Navaratri literally means '
 nine nights' in Sanskrit.\nNavaratri is divided into three-day sets\, each
  devoted to a different aspect of the Supreme Goddess. The first three day
 s are devoted to Goddess Durga (destroyer of all our vices\, impurities\, 
 and defects)\, the next three days are devoted to Goddess Lakshmi (the giv
 er of spiritual and material wealth)\, and the last days are devoted to Go
 ddess Saraswati (the goddess of wisdom).\nDuring Navaratri\, young men and
  women dance and sing\, expressing gratitude towards goddess Durga for sav
 ing the world from the atrocities of the Mahishasur. https://www.faithvict
 oria.org.au/upcoming-events/event/238-navaratri-hinduism
DTSTART:20110928T000000Z
DTEND:20111006T225959Z
LOCATION:JEvents ()
SUMMARY:Navaratri (Hinduism)
URL:https://www.faithvictoria.org.au/upcoming-events/event/238-navaratri-hi
 nduism
END:VEVENT
END:VCALENDAR
