BEGIN:VCALENDAR
VERSION:2.0
PRODID:-//https://www.faithvictoria.org.au///NONSGML kigkonsult.se iCalcreator 2.10.15//
METHOD:PUBLISH
BEGIN:VEVENT
UID:20260420T123437UTC-0033bVuxes@https://www.faithvictoria.org.au/
DTSTAMP:20260420T123437Z
DESCRIPTION:Birth of Guru Nanak Dev Sahib Ji Tuesdasy 8&nbsp\;November 2022
 Religion: Sikhism\nObserves the birth of Guru Sri Guru Nanak Dev Sahib\, t
 he founder of the Sikh religion\, born in 1469 CE. An accomplished poet\, 
 974 of his hymns are part of the Guru Granth Sahib. https://www.faithvicto
 ria.org.au/upcoming-events/event/1292-birth-of-guru-nanak-dev-sahib-ji-sik
 hism
DTSTART;VALUE=DATE:20221108
LOCATION:RSEvents!Pro Location (Colorado\, USA)
SUMMARY:Birth of Guru Nanak Dev Sahib Ji (Sikhism)
URL:https://www.faithvictoria.org.au/upcoming-events/event/1292-birth-of-gu
 ru-nanak-dev-sahib-ji-sikhism
END:VEVENT
END:VCALENDAR
